BEGIN:VCALENDAR
PRODID:NingEventWidget-v1
VERSION:2.0
METHOD:PUBLISH
BEGIN:VTIMEZONE
TZID:Europe/London
X-LIC-LOCATION:Europe/London
BEGIN:DAYLIGHT
TZOFFSETFROM:+0000
TZOFFSETTO:+0100
TZNAME:BST
DTSTART:19700329T010000
RRULE:FREQ=YEARLY;BYMONTH=3;BYDAY=-1SU
END:DAYLIGHT
BEGIN:STANDARD
TZOFFSETFROM:+0100
TZOFFSETTO:+0000
TZNAME:GMT
DTSTART:19701025T020000
RRULE:FREQ=YEARLY;BYMONTH=10;BYDAY=-1SU
END:STANDARD
END:VTIMEZONE
BEGIN:VEVENT
UID:4626108:Event:55519
DTSTAMP:20260419T160026Z
SUMMARY:Business Women in Surrey Afternoon, Bagshot
DESCRIPTION:Afternoon Tea (and Spa!) at Pennyhill Park\n\nJoin us for 
 a delicious cream tea and indulge yourself in the totally relaxed, yet
  buzzy atmosphere of the Pennyhill Park Spa’s Themis restaurant.\nTh
 ese networking ladies afternoon teas are designed to give you a regula
 r opportunity to meet with like minded people, entertain your clients,
  share issues and widen your own network of customers, suppliers, neig
 hbours and competitors.\nWe will be having a short talk by Sarah Zorab
  from Sarah Zorab Nutrition on the importance of diet to maximise pot
 ential in the workplace\nAfter tea you are warmly invited to complime
 ntary use the spa’s superb facilitates and experience life’s stres
 ses and strains melt away. Step through the door of Pennyhill Park Spa
  and you’re already on the way to restoring body and soul.\nBook you
 r own treatments after the event. (You are able to use the Spa facili
 ties including the swimming pool and steam room. Treatments are not in
 cluded, but available at an additional cost).\nThe Spa has recently be
 en voted ‘England’s leading Spa resort’ and is sumptuously spaci
 ous and calming.\nSponsor.  This event is sponsored by Nuffield Heal
 th Guildford Hospital\nCOST: Non Member £40 Members £22 \nBOOKING: 
 Please CLICK HERE to book\nMAP\n\nFor more information visit https://
 networkinginsurrey.co.uk/events/business-women-in-surrey-at-pennyhill-
 park-1
DTSTART;TZID=Europe/London:20130515T153000
DTEND;TZID=Europe/London:20130515T173000
CATEGORIES:afternoon, bagshot, women
LOCATION:Pennyhill Park Hotel and Spa GU19 5EU
WEBSITE:http://www.pennyhillpark.co.uk/EXCLUSIVE_HOTELS/the_hotel.aspx
URL:http://www.pennyhillpark.co.uk/EXCLUSIVE_HOTELS/the_hotel.aspx
CONTACT:01483 735540
ORGANIZER:Surrey Chambers of Commerce
ATTACH;FMTTYPE="image/jpeg":http://storage.ning.com/topology/rest/1.0/
 file/get/2591416376?profile=original
ATTENDEE;ROLE=REQ-PARTICIPANT;PARTSTAT=ACCEPTED;RSVP=TRUE;CN="Charlott
 e Heywood":https://networkinginsurrey.co.uk/profile/Charlotte
END:VEVENT
END:VCALENDAR
