BEGIN:VCALENDAR
PRODID:NingEventWidget-v1
VERSION:2.0
METHOD:PUBLISH
BEGIN:VTIMEZONE
TZID:Europe/London
X-LIC-LOCATION:Europe/London
BEGIN:DAYLIGHT
TZOFFSETFROM:+0000
TZOFFSETTO:+0100
TZNAME:BST
DTSTART:19700329T010000
RRULE:FREQ=YEARLY;BYMONTH=3;BYDAY=-1SU
END:DAYLIGHT
BEGIN:STANDARD
TZOFFSETFROM:+0100
TZOFFSETTO:+0000
TZNAME:GMT
DTSTART:19701025T020000
RRULE:FREQ=YEARLY;BYMONTH=10;BYDAY=-1SU
END:STANDARD
END:VTIMEZONE
BEGIN:VEVENT
UID:4626108:Event:42739
DTSTAMP:20260425T185303Z
SUMMARY:MEMBER PROMO: Business under the Spotlight Day, Woking
DESCRIPTION:Business under the Spotlight at The Lightbox\n\nAre you a 
 business owner or someone about to start a business?\nCould you do wit
 h some expert business advice about your brand, how you use your websi
 te, the messages and channels you are using to communicate with custom
 ers and how you can measure how your website is performing?\nThen the 
 Business under the Spotlight conference can help you. The conference i
 s a day that you can spend time investing in your business. With advic
 e from local business experts, the conference will inspire, educate an
 d clarify topics including business messaging, branding, communication
 , social media, blogging, websites and Google Analytics.\nCLICK HERE 
 for Agenda and Speakers\nThe day's conference has a number of speaker 
 sessions, a panel discussion and the price includes lunch and a vouche
 r for a 30 minute one-to-one session with one of the expert speakers. 
 There will also be a networking session at the end of the day.\nCOST: 
 £70 including lunch  \nBOOKING: Please CLICK HERE to book\nMAP\nVEN
 UE\n\nFor more information visit https://networkinginsurrey.co.uk/even
 ts/business-under-the-spotlight
DTSTART;TZID=Europe/London:20120912T100000
DTEND;TZID=Europe/London:20120912T160000
CATEGORIES:conference, networking, training
LOCATION:The Lightbox GU21 4AA
WEBSITE:http://www.businessunderthespotlight.co.uk/
URL:http://www.businessunderthespotlight.co.uk/
CONTACT:01932 213140
ORGANIZER;CN="Nicky Rudd":https://networkinginsurrey.co.uk/profile/Nic
 kyRudd
ATTACH;FMTTYPE="image/jpeg":http://storage.ning.com/topology/rest/1.0/
 file/get/2591401775?profile=original
ATTENDEE;ROLE=REQ-PARTICIPANT;PARTSTAT=ACCEPTED;RSVP=TRUE;CN="Nicky Ru
 dd":https://networkinginsurrey.co.uk/profile/NickyRudd
END:VEVENT
END:VCALENDAR
