BEGIN:VCALENDAR
PRODID:NingEventWidget-v1
VERSION:2.0
METHOD:PUBLISH
BEGIN:VTIMEZONE
TZID:Europe/London
X-LIC-LOCATION:Europe/London
BEGIN:DAYLIGHT
TZOFFSETFROM:+0000
TZOFFSETTO:+0100
TZNAME:BST
DTSTART:19700329T010000
RRULE:FREQ=YEARLY;BYMONTH=3;BYDAY=-1SU
END:DAYLIGHT
BEGIN:STANDARD
TZOFFSETFROM:+0100
TZOFFSETTO:+0000
TZNAME:GMT
DTSTART:19701025T020000
RRULE:FREQ=YEARLY;BYMONTH=10;BYDAY=-1SU
END:STANDARD
END:VTIMEZONE
BEGIN:VEVENT
UID:4626108:Event:2516
DTSTAMP:20260426T003408Z
SUMMARY:Business Scene Surrey Connections, Wonersh
DESCRIPTION:Business Scene Surrey Connections\n\nThis will be our seve
 nth Surrey Connections Networking event.\nJoining us for this evening 
 offers you the opportunity to meet other high calibre business delegat
 es, openly network in a relaxed and friendly environment, build strong
  business relationships and gain valuable information about the issues
  that most affect your business.\nProceeds from all raffle prizes go t
 o our local charity CHASE - the children's hospice.\nAGENDA\n18:00 Arr
 ival and welcome drink 19:00 Speaker: Dan Luxon 19:20 Open Networking 
 19:50 Raffle prize draw 20:00 Open Networking 20:30 Close\nOur speaker
  is Dan Luxon (Performance in Business) Dan has spent many years strad
 dling the worlds of business and of the arts. He runs Performance in B
 usiness, teaching practical vocal and theatrical techniques to help bu
 siness people perform better when they need to speak in public and pre
 sent themselves or their company. Dan’s approach is unique, valuable
  and entertaining; and with his diverse experience from management con
 sultant to opera singer this really is a must for anybody who wants to
  present themselves more effectively.\n\nCOST: £10 +VAT ( includes a 
 welcome drink )\nBOOKING Register here first for free (or log on as a 
 Business Scene Member) to go on and book your place.\nThis event bring
 s together many networks and business communities. If you run one and 
 would like to be involved, do get in touch with Andrew Widgery - andre
 w.widgery@business-scene.com. Drinks and food will also be served and 
 a warm welcome awaits you.\nMAP\nVENUE\n-----------------------------\
 nThis event is organised by NiS Member Andrew Widgery. Business-Scene 
 regularly run successful Connections events around the UK, bringing to
 gether many of the local Business Networking groups under one roof, an
 d offering a great opportunity for local businesses to expand their ow
 n local connections.\n\nFor more information visit https://networkingi
 nsurrey.co.uk/events/business-scene-surrey-1
DTSTART;TZID=Europe/London:20100713T180000
DTEND;TZID=Europe/London:20100713T203000
CATEGORIES:evening, wonersh, business_scene, business_networking
LOCATION:Barnett Hill, Wonersh GU5 0RF
WEBSITE:http://www.business-scene.com/event_detail.php?e=13675
URL:http://www.business-scene.com/event_detail.php?e=13675
CONTACT:07973 323240
ORGANIZER:Andrew Widgery
ATTACH;FMTTYPE="image/jpeg":http://storage.ning.com/topology/rest/1.0/
 file/get/2591380263?profile=original
ATTENDEE;ROLE=REQ-PARTICIPANT;PARTSTAT=ACCEPTED;RSVP=TRUE;CN="Andrew W
 idgery":https://networkinginsurrey.co.uk/profile/AndrewWidgery
ATTENDEE;ROLE=REQ-PARTICIPANT;PARTSTAT=ACCEPTED;RSVP=TRUE;CN="Keith Gr
 over, NiS Founder":https://networkinginsurrey.co.uk/profile/KeithGrove
 r
ATTENDEE;ROLE=REQ-PARTICIPANT;PARTSTAT=TENTATIVE;RSVP=TRUE;CN="Annie H
 eggie":https://networkinginsurrey.co.uk/profile/Annie
END:VEVENT
END:VCALENDAR
