BEGIN:VCALENDAR
PRODID:NingEventWidget-v1
VERSION:2.0
METHOD:PUBLISH
BEGIN:VTIMEZONE
TZID:Europe/London
X-LIC-LOCATION:Europe/London
BEGIN:DAYLIGHT
TZOFFSETFROM:+0000
TZOFFSETTO:+0100
TZNAME:BST
DTSTART:19700329T010000
RRULE:FREQ=YEARLY;BYMONTH=3;BYDAY=-1SU
END:DAYLIGHT
BEGIN:STANDARD
TZOFFSETFROM:+0100
TZOFFSETTO:+0000
TZNAME:GMT
DTSTART:19701025T020000
RRULE:FREQ=YEARLY;BYMONTH=10;BYDAY=-1SU
END:STANDARD
END:VTIMEZONE
BEGIN:VEVENT
UID:4626108:Event:55996
DTSTAMP:20260419T162537Z
SUMMARY:Business Scene Evening, Guildford
DESCRIPTION:Informal Networking opportunity at Regus, Guildford\n\n\nT
 his growing group is now meeting on a regular basis every month usuall
 y on the second Wednesday.\nSome great individuals make regular visits
 , some of whom are very well connected so lots of interesting business
  opportunities might interest you.\nBusiness Scene's Warren Cass is an
  accomplished speaker too who regularly consults on social media str
 ategies for medium and bigger businesses. Definitely worth a listen!
 \nCOST: FREE for Business Scene Members, non-Members £15 includes dri
 nks and canapes\n*** FREE GUEST OFFER:  Andrew Widgery and Tessa Hoo
 d are inviting a limited number of NiS Members to attend as their 
 guests free of charge! To take up this offer (first come, first served
 !) please message either of them via their profiles on the site.  \nB
 OOKING: Please CLICK HERE to book when free places are gone\nVENUE\nM
 AP\n\nFor more information visit https://networkinginsurrey.co.uk/even
 ts/business-scene-guildford
DTSTART;TZID=Europe/London:20130508T180000
DTEND;TZID=Europe/London:20130508T203000
CATEGORIES:open, and, informal, networking
LOCATION:Regus Guildford GU2 7YB
WEBSITE:http://www.business-scene.com/event/surrey-connections-4?inf_c
 ontact_key=7ec93b1f8369a6ac8d841130689d2e1c719166d558ecf80230d3c00840a
 e1d6a
URL:http://www.business-scene.com/event/surrey-connections-4?inf_conta
 ct_key=7ec93b1f8369a6ac8d841130689d2e1c719166d558ecf80230d3c00840ae1d6
 a
CONTACT:
ORGANIZER:Warren Cass
ATTACH;FMTTYPE="image/jpeg":http://storage.ning.com/topology/rest/1.0/
 file/get/2591380263?profile=original
ATTENDEE;ROLE=REQ-PARTICIPANT;PARTSTAT=ACCEPTED;RSVP=TRUE;CN="Martin F
 owler":https://networkinginsurrey.co.uk/profile/MartinFowler
ATTENDEE;ROLE=REQ-PARTICIPANT;PARTSTAT=ACCEPTED;RSVP=TRUE;CN="Andrew W
 idgery":https://networkinginsurrey.co.uk/profile/AndrewWidgery
END:VEVENT
END:VCALENDAR
