BEGIN:VCALENDAR
PRODID:NingEventWidget-v1
VERSION:2.0
METHOD:PUBLISH
BEGIN:VTIMEZONE
TZID:Europe/London
X-LIC-LOCATION:Europe/London
BEGIN:DAYLIGHT
TZOFFSETFROM:+0000
TZOFFSETTO:+0100
TZNAME:BST
DTSTART:19700329T010000
RRULE:FREQ=YEARLY;BYMONTH=3;BYDAY=-1SU
END:DAYLIGHT
BEGIN:STANDARD
TZOFFSETFROM:+0100
TZOFFSETTO:+0000
TZNAME:GMT
DTSTART:19701025T020000
RRULE:FREQ=YEARLY;BYMONTH=10;BYDAY=-1SU
END:STANDARD
END:VTIMEZONE
BEGIN:VEVENT
UID:4626108:Event:9503
DTSTAMP:20260423T122506Z
SUMMARY:Business over Breakfast, Carshalton
DESCRIPTION:BoB Club Breakfast at The Greyhound\n \nOur approach and 
 culture is so different to the way many businesses have networked in S
 urrey for the past 13 years. To see people enjoying the experience and
  seeing value in what they are getting makes this new venture so pleas
 ing.\nOur fortnightly meetings provide the platform to network in a pr
 ofessionally structured environment that is relaxed and pressure free.
  Every member is given an opportunity to do a short business overview 
 to the group and one member is given 10 minutes to carry out a more co
 mprehensive “Showcase” presentation about their business\nWe work 
 hard to give our members more focus on the face to face networking and
  we are also investing to make them more visible to potential customer
 s on the internet\nWe actively encourage our members to use the BoB Cl
 ub network by visiting other groups and to help get a better return on
  investment\nThere is NO PRESSURE on members or visitors to give refer
 rals at every meeting as this only encourages people to give worthless
  referrals that are not worth pursuing. Our members are more intereste
 d in Quality NOT Quantity - but don’t just take our word for it, att
 end as a visitor and experience BoB Clubs for yourself.\nThere are clu
 bs being set up in Guildford, Kingston upon Thames, Weybridge, Carshal
 ton and soon to follow, Farnham, Esher, Cobham and Woking later this y
 ear\nCOST: £10 meeting fee (including breakfast)\nCLICK HERE to visi
 t our website for more information.  \nTO BOOK: Please call Ian Mor
 gan 07702 783233 or email ian@networkingsoutheast.com\nMAP\n----------
 -------------------------\nBeing a member of BoB Clubs helps you find 
 new customers easier and quicker than your competition. Securing your 
 exclusive place at BoB Clubs  means you have a better chance of gaini
 ng quality referrals as you have members within the club promoting and
  recommending your products and services by word-of-mouth. Another ben
 efit is you have the opportunity to improve your presentation and comm
 unication skills as well as boosting your confidence.\n\nFor more info
 rmation visit https://networkinginsurrey.co.uk/events/business-over-br
 eakfast
DTSTART;TZID=Europe/London:20110301T064500
DTEND;TZID=Europe/London:20110301T084500
CATEGORIES:breakfast, business_networking_surrey, carshalton
LOCATION:The Greyhound Hotel SM5 3PE
WEBSITE:http://www.bobclubs.com/Club/Carshalton
URL:http://www.bobclubs.com/Club/Carshalton
CONTACT:07702 783233
ORGANIZER;CN="Ian Morgan":https://networkinginsurrey.co.uk/profile/Ian
 Morgan
ATTACH;FMTTYPE="image/jpeg":http://storage.ning.com/topology/rest/1.0/
 file/get/2591390780?profile=original
ATTENDEE;ROLE=REQ-PARTICIPANT;PARTSTAT=ACCEPTED;RSVP=TRUE;CN="Ian Morg
 an":https://networkinginsurrey.co.uk/profile/IanMorgan
END:VEVENT
END:VCALENDAR
