BEGIN:VCALENDAR
PRODID:NingEventWidget-v1
VERSION:2.0
METHOD:PUBLISH
BEGIN:VTIMEZONE
TZID:Europe/London
X-LIC-LOCATION:Europe/London
BEGIN:DAYLIGHT
TZOFFSETFROM:+0000
TZOFFSETTO:+0100
TZNAME:BST
DTSTART:19700329T010000
RRULE:FREQ=YEARLY;BYMONTH=3;BYDAY=-1SU
END:DAYLIGHT
BEGIN:STANDARD
TZOFFSETFROM:+0100
TZOFFSETTO:+0000
TZNAME:GMT
DTSTART:19701025T020000
RRULE:FREQ=YEARLY;BYMONTH=10;BYDAY=-1SU
END:STANDARD
END:VTIMEZONE
BEGIN:VEVENT
UID:4626108:Event:9366
DTSTAMP:20260423T064242Z
SUMMARY:Business over Breakfast, Sutton
DESCRIPTION:Breakfast Networking at the Holiday Inn\n\nSince 2001 memb
 ers of BoB have met every week and work together to offer their extens
 ive range of products and services to clients, residents, employees an
 d businesses in London & the South. We are NOT part of any other netwo
 rking organisation.\nYou can meet us over breakfast any Thursday or co
 ntact a member directly to fulfil your immediate requirement. Our visi
 on is to be the leading provider of products and services to business 
 and residents in London and the South.\nCOST: £10 meeting fee include
 s breakfast\nTO BOOK: Please call one of our Members - you'll find the
 ir details and more information on our website here.\nMAP\n\n\nFor mor
 e information visit https://networkinginsurrey.co.uk/events/business-o
 ver-breakfast-sutton
DTSTART;TZID=Europe/London:20110303T070000
DTEND;TZID=Europe/London:20110303T083000
CATEGORIES:weekly, networking, meeting
LOCATION:Holiday Inn Sutton SM1 2RF
WEBSITE:http://www.businessoverbreakfast.co.uk
URL:http://www.businessoverbreakfast.co.uk
CONTACT:020 3239 2553
ORGANIZER;CN="Paul Jeanes":https://networkinginsurrey.co.uk/profile/Pa
 ulJeanes
ATTACH;FMTTYPE="image/jpeg":http://storage.ning.com/topology/rest/1.0/
 file/get/2470860536?profile=original
ATTENDEE;ROLE=REQ-PARTICIPANT;PARTSTAT=ACCEPTED;RSVP=TRUE;CN="Paul Jea
 nes":https://networkinginsurrey.co.uk/profile/PaulJeanes
END:VEVENT
END:VCALENDAR
