BEGIN:VCALENDAR
PRODID:NingEventWidget-v1
VERSION:2.0
METHOD:PUBLISH
BEGIN:VTIMEZONE
TZID:Europe/London
X-LIC-LOCATION:Europe/London
BEGIN:DAYLIGHT
TZOFFSETFROM:+0000
TZOFFSETTO:+0100
TZNAME:BST
DTSTART:19700329T010000
RRULE:FREQ=YEARLY;BYMONTH=3;BYDAY=-1SU
END:DAYLIGHT
BEGIN:STANDARD
TZOFFSETFROM:+0100
TZOFFSETTO:+0000
TZNAME:GMT
DTSTART:19701025T020000
RRULE:FREQ=YEARLY;BYMONTH=10;BYDAY=-1SU
END:STANDARD
END:VTIMEZONE
BEGIN:VEVENT
UID:4626108:Event:17407
DTSTAMP:20260423T105016Z
SUMMARY:Business over Breakfast, Guildford
DESCRIPTION:Business over Breakfast at the Holiday Inn\n\nCome and mee
 t a group of serious business owners in a friendly and fun atmosphere.
   Make new contacts and gain real business.\nWe work hard to give our
  members more focus on the face to face networking and we are also inv
 esting to make them more visible to potential customers on the interne
 t. We actively encourage our members to use the BoB Club network by vi
 siting other groups and to help get a better return on investment.\nTh
 ere is NO PRESSURE on members or visitors to give referrals at every m
 eeting as this only encourages people to give worthless referrals that
  are not worth pursuing. Our members are more interested in Quality NO
 T Quantity - but don’t just take our word for it, attend as a visito
 r and experience BoB Clubs for yourself.\nCOST: £10 meeting fee inclu
 ding breakfast\nCLICK HERE TO BOOK as a Visitor  and for more inform
 ation\nMAP\nParking: Ample and free\n---------------------------------
 --\nBeing a member of BoB Clubs helps you find new customers easier an
 d quicker than your competition. Securing your exclusive place at BoB 
 Clubs means you have a better chance of gaining quality referrals as y
 ou have members within the club promoting and recommending your produc
 ts and services by word-of-mouth. Another benefit is you have the oppo
 rtunity to improve your presentation and communication skills as well 
 as boosting your confidence. The Guildford BoB group is run by NiS Mem
 ber Sue Warwick\n\nFor more information visit https://networkinginsurr
 ey.co.uk/events/business-over-breakfast-3
DTSTART;TZID=Europe/London:20110520T064500
DTEND;TZID=Europe/London:20110520T083000
CATEGORIES:business_over_breakfast, business_networking_surrey, bob, g
 uildford
LOCATION:Holiday Inn, Guildford GU2 7XZ
WEBSITE:
URL:
CONTACT:
ORGANIZER;CN="Sue Warwick":https://networkinginsurrey.co.uk/profile/Su
 eWarwick
ATTACH;FMTTYPE="image/jpeg":http://storage.ning.com/topology/rest/1.0/
 file/get/2470848685?profile=original
ATTENDEE;ROLE=REQ-PARTICIPANT;PARTSTAT=ACCEPTED;RSVP=TRUE;CN="Sue Warw
 ick":https://networkinginsurrey.co.uk/profile/SueWarwick
END:VEVENT
END:VCALENDAR
