BEGIN:VCALENDAR
PRODID:NingEventWidget-v1
VERSION:2.0
METHOD:PUBLISH
BEGIN:VTIMEZONE
TZID:Europe/London
X-LIC-LOCATION:Europe/London
BEGIN:DAYLIGHT
TZOFFSETFROM:+0000
TZOFFSETTO:+0100
TZNAME:BST
DTSTART:19700329T010000
RRULE:FREQ=YEARLY;BYMONTH=3;BYDAY=-1SU
END:DAYLIGHT
BEGIN:STANDARD
TZOFFSETFROM:+0100
TZOFFSETTO:+0000
TZNAME:GMT
DTSTART:19701025T020000
RRULE:FREQ=YEARLY;BYMONTH=10;BYDAY=-1SU
END:STANDARD
END:VTIMEZONE
BEGIN:VEVENT
UID:4626108:Event:17213
DTSTAMP:20260422T230637Z
SUMMARY:Business over Breakfast, Farnham
DESCRIPTION:BoB Club Breakfast at The Ramada\nOur approach and culture
  is so different to the way many businesses have networked in Surrey f
 or the past 13 years. To see people enjoying the experience and seeing
  value in what they are getting makes this new venture so pleasing.\nO
 ur fortnightly meetings provide the platform to network in a professio
 nally structured environment that is relaxed and pressure free. Every 
 member is given an opportunity to do a short business overview to the 
 group and one member is given 10 minutes to carry out a more comprehen
 sive “Showcase” presentation about their business\nWe work hard to
  give our members more focus on the face to face networking and we are
  also investing to make them more visible to potential customers on th
 e internet\nWe actively encourage our members to use the BoB Club netw
 ork by visiting other groups and to help get a better return on invest
 ment\nThere is NO PRESSURE on members or visitors to give referrals at
  every meeting as this only encourages people to give worthless referr
 als that are not worth pursuing. Our members are more interested in Qu
 ality NOT Quantity - but don’t just take our word for it, attend as 
 a visitor and experience BoB Clubs for yourself.\nCome and meet with f
 riendly serious business owners, make new contacts and gain real busin
 ess.\nCLICK HERE TO BOOK as a Visitor  and for more information.  
 \nMAP\n-----------------------------------\nBeing a member of BoB Club
 s helps you find new customers easier and quicker than your competitio
 n. Securing your exclusive place at BoB Clubs means you have a better 
 chance of gaining quality referrals as you have members within the clu
 b promoting and recommending your products and services by word-of-mou
 th. Another benefit is you have the opportunity to improve your presen
 tation and communication skills as well as boosting your confidence. T
 he Farnham BoB group is run by NiS Member Sue Warwick\n\nFor more info
 rmation visit https://networkinginsurrey.co.uk/events/business-over-br
 eakfast-2
DTSTART;TZID=Europe/London:20110513T063000
DTEND;TZID=Europe/London:20110513T083000
CATEGORIES:breakfast, business_networking_surrey, farnham
LOCATION:Ramada Farnham GU10 1EX
WEBSITE:http://www.bobclubs.com/Club/Farnham
URL:http://www.bobclubs.com/Club/Farnham
CONTACT:07753 709618
ORGANIZER;CN="Sue Warwick":https://networkinginsurrey.co.uk/profile/Su
 eWarwick
ATTACH;FMTTYPE="image/jpeg":http://storage.ning.com/topology/rest/1.0/
 file/get/2470848685?profile=original
ATTENDEE;ROLE=REQ-PARTICIPANT;PARTSTAT=ACCEPTED;RSVP=TRUE;CN="Sue Warw
 ick":https://networkinginsurrey.co.uk/profile/SueWarwick
END:VEVENT
END:VCALENDAR
