BEGIN:VCALENDAR
PRODID:NingEventWidget-v1
VERSION:2.0
METHOD:PUBLISH
BEGIN:VTIMEZONE
TZID:Europe/London
X-LIC-LOCATION:Europe/London
BEGIN:DAYLIGHT
TZOFFSETFROM:+0000
TZOFFSETTO:+0100
TZNAME:BST
DTSTART:19700329T010000
RRULE:FREQ=YEARLY;BYMONTH=3;BYDAY=-1SU
END:DAYLIGHT
BEGIN:STANDARD
TZOFFSETFROM:+0100
TZOFFSETTO:+0000
TZNAME:GMT
DTSTART:19701025T020000
RRULE:FREQ=YEARLY;BYMONTH=10;BYDAY=-1SU
END:STANDARD
END:VTIMEZONE
BEGIN:VEVENT
UID:4626108:Event:96117
DTSTAMP:20260422T215940Z
SUMMARY:FREE Business Masters Success Day, Camberley
DESCRIPTION:FREE Business Masters Success Day at Camberley Heath\r\n\r
 \nLET US HELP TAKE YOUR BUSINESS TO ANOTHER LEVEL... Come to our Busin
 ess Masters as my guest\r\n\r\nYou will discover how you can:\r\nDevel
 op efficient business processes\r\nIncrease leads and create more oppo
 rtunities\r\nBecome a well rounded business owner\r\n... and lots more
 !\r\n\r\nAdam Stott (Founder of Big Business Events) and his special g
 uest speakers will provide you with a full day jam-packed with content
  to show you how you can take your business to the next level. Our ex
 pert speakers know what it takes to create successful businesses. They
  know what works and what doesn’t because they have learnt from thei
 r mistakes.\r\nCOST: FREE (pre-booking is essential please)\r\nBOOKING
 : Please CLICK HERE to register and claim your free place\r\nMAP\n\nFo
 r more information visit https://networkinginsurrey.co.uk/events/busin
 ess-masters
DTSTART;TZID=Europe/London:20180221T090000
DTEND;TZID=Europe/London:20180221T170000
CATEGORIES:business, masterclass
LOCATION:Camberley Heath Golf Club GU15 1JG
WEBSITE:http://www.bigbusinessevents.co.uk
URL:http://www.bigbusinessevents.co.uk
CONTACT:07789225501
ORGANIZER:Mick Hull
ATTACH;FMTTYPE="image/jpeg":http://storage.ning.com/topology/rest/1.0/
 file/get/2591477408?profile=original
ATTENDEE;ROLE=REQ-PARTICIPANT;PARTSTAT=ACCEPTED;RSVP=TRUE;CN="MICK HUL
 L":https://networkinginsurrey.co.uk/profile/MICKHULL
END:VEVENT
END:VCALENDAR
