BEGIN:VCALENDAR
PRODID:NingEventWidget-v1
VERSION:2.0
METHOD:PUBLISH
BEGIN:VTIMEZONE
TZID:Europe/London
X-LIC-LOCATION:Europe/London
BEGIN:DAYLIGHT
TZOFFSETFROM:+0000
TZOFFSETTO:+0100
TZNAME:BST
DTSTART:19700329T010000
RRULE:FREQ=YEARLY;BYMONTH=3;BYDAY=-1SU
END:DAYLIGHT
BEGIN:STANDARD
TZOFFSETFROM:+0100
TZOFFSETTO:+0000
TZNAME:GMT
DTSTART:19701025T020000
RRULE:FREQ=YEARLY;BYMONTH=10;BYDAY=-1SU
END:STANDARD
END:VTIMEZONE
BEGIN:VEVENT
UID:4626108:Event:313
DTSTAMP:20260425T202655Z
SUMMARY:Business for Breakfast, Woking
DESCRIPTION:Business for Breakfast fortnightly meeting.\n\nBenefits of
  Business for Breakfast :\nBusiness sector exclusivity in membership.\
 nBusiness development in unproductive hours for your business.\nForm s
 trategic alliances in a relaxed productive environment.\nUnpressurised
  networking.\nFortnightly meetings.\nBusiness to business focus\nIncre
 mental business\nSupport and Advice\n\nCost £10/pp meeting fee and br
 eakfast\n\nFree parking available\n\nFor more information visit https:
 //networkinginsurrey.co.uk/events/business-for-breakfast-woking
DTSTART;TZID=Europe/London:20100224T070000
DTEND;TZID=Europe/London:20100224T083000
CATEGORIES:breakfast, woking
LOCATION:Devere Venue, Gorse Hill
WEBSITE:http://www.deverevenues.co.uk
URL:http://www.deverevenues.co.uk
CONTACT:079 315 71335
ORGANIZER;CN="Lesley Vaughan":https://networkinginsurrey.co.uk/profile
 /LesleyVaughan
ATTACH;FMTTYPE="image/jpeg":http://storage.ning.com/topology/rest/1.0/
 file/get/2591377155?profile=original
ATTENDEE;ROLE=REQ-PARTICIPANT;PARTSTAT=ACCEPTED;RSVP=TRUE;CN="Lesley V
 aughan":https://networkinginsurrey.co.uk/profile/LesleyVaughan
END:VEVENT
END:VCALENDAR
