BEGIN:VCALENDAR
PRODID:NingEventWidget-v1
VERSION:2.0
METHOD:PUBLISH
BEGIN:VTIMEZONE
TZID:Europe/London
X-LIC-LOCATION:Europe/London
BEGIN:DAYLIGHT
TZOFFSETFROM:+0000
TZOFFSETTO:+0100
TZNAME:BST
DTSTART:19700329T010000
RRULE:FREQ=YEARLY;BYMONTH=3;BYDAY=-1SU
END:DAYLIGHT
BEGIN:STANDARD
TZOFFSETFROM:+0100
TZOFFSETTO:+0000
TZNAME:GMT
DTSTART:19701025T020000
RRULE:FREQ=YEARLY;BYMONTH=10;BYDAY=-1SU
END:STANDARD
END:VTIMEZONE
BEGIN:VEVENT
UID:4626108:Event:1163
DTSTAMP:20260425T174118Z
SUMMARY:Business for Breakfast, Woking
DESCRIPTION:Business for Breakfast is a private business club that mee
 ts with local business people fortnightly with the key aim of helping 
 its members significantly grow their businesses through relationship m
 arketing and the passing of quality referrals. We offer:\n• Business
  sector exclusivity in membership.\n• Cost effective marketing for y
 our business.\n• Form strategic alliances in a relaxed productive en
 vironment.\n• Unpressurised networking.\n• Fortnightly meetings.\n
 • Business to business focus\n• Incremental business\n• Support 
 and Advice\n\nThe only investment on the day is a £10 meeting fee whi
 ch includes a full breakfast.\nPlease contact Lesley Vaughan on 079315
 71335, or email lesley@bforb.co.uk.\n\nParking available\n\nFor more i
 nformation visit https://networkinginsurrey.co.uk/events/business-for-
 breakfast-woking-2
DTSTART;TZID=Europe/London:20100407T184500
DTEND;TZID=Europe/London:20100407T203000
CATEGORIES:breakfast, networking
LOCATION:Devere Venue, Gorse Hill
WEBSITE:http://www.deverevenues.co.uk/find-venue/gorse-hill.html
URL:http://www.deverevenues.co.uk/find-venue/gorse-hill.html
CONTACT:07931571335
ORGANIZER;CN="Lesley Vaughan":https://networkinginsurrey.co.uk/profile
 /LesleyVaughan
ATTACH;FMTTYPE="image/jpeg":http://storage.ning.com/topology/rest/1.0/
 file/get/2591379531?profile=original
ATTENDEE;ROLE=REQ-PARTICIPANT;PARTSTAT=ACCEPTED;RSVP=TRUE;CN="Lesley V
 aughan":https://networkinginsurrey.co.uk/profile/LesleyVaughan
END:VEVENT
END:VCALENDAR
