BEGIN:VCALENDAR
PRODID:NingEventWidget-v1
VERSION:2.0
METHOD:PUBLISH
BEGIN:VTIMEZONE
TZID:Europe/London
X-LIC-LOCATION:Europe/London
BEGIN:DAYLIGHT
TZOFFSETFROM:+0000
TZOFFSETTO:+0100
TZNAME:BST
DTSTART:19700329T010000
RRULE:FREQ=YEARLY;BYMONTH=3;BYDAY=-1SU
END:DAYLIGHT
BEGIN:STANDARD
TZOFFSETFROM:+0100
TZOFFSETTO:+0000
TZNAME:GMT
DTSTART:19701025T020000
RRULE:FREQ=YEARLY;BYMONTH=10;BYDAY=-1SU
END:STANDARD
END:VTIMEZONE
BEGIN:VEVENT
UID:4626108:Event:317
DTSTAMP:20260425T174050Z
SUMMARY:Business for Breakfast, Kingston upon Thames
DESCRIPTION:Please see details of our next meeting below.\n\nBusiness 
 for Breakfast is a private business club whose key aim is to help its 
 members increase their businesses through relationship marketing and t
 he passing of quality referrals, reducing the need to cold call for ne
 w business\n\nWe offer the following :\n\nBusiness sector exclusivity 
 in membership.\nCost effective marketing for your business.\nForm stra
 tegic alliances in a relaxed, productive environment.\nUnpressurised n
 etworking.\nFortnightly meetings.\nBusiness to business focus\nIncreme
 ntal business\nSupport and Advice from attendees\n\nThe meeting fee is
  £10pp which includes a full breakfast.\n\nPlease RSVP Lesley Vaughan
  on 07931571335, or email lesley@bforb.co.uk\n\nWarren House has ample
 , free parking.\nRSVP Lesley on 07931571335\n\nFor more information vi
 sit https://networkinginsurrey.co.uk/events/business-for-breakfast-1
DTSTART;TZID=Europe/London:20100409T070000
DTEND;TZID=Europe/London:20100409T083000
CATEGORIES:breakfast, kingston
LOCATION:Warren House
WEBSITE:http://www.warrenhouse.com
URL:http://www.warrenhouse.com
CONTACT:079 315 71335
ORGANIZER;CN="Lesley Vaughan":https://networkinginsurrey.co.uk/profile
 /LesleyVaughan
ATTACH;FMTTYPE="image/jpeg":http://storage.ning.com/topology/rest/1.0/
 file/get/2591379531?profile=original
ATTENDEE;ROLE=REQ-PARTICIPANT;PARTSTAT=ACCEPTED;RSVP=TRUE;CN="Derek Wi
 lliamson":https://networkinginsurrey.co.uk/profile/DerekWilliamson
ATTENDEE;ROLE=REQ-PARTICIPANT;PARTSTAT=ACCEPTED;RSVP=TRUE;CN="Lesley V
 aughan":https://networkinginsurrey.co.uk/profile/LesleyVaughan
ATTENDEE;ROLE=REQ-PARTICIPANT;PARTSTAT=TENTATIVE;RSVP=TRUE;CN="Carolin
 e Walsh":https://networkinginsurrey.co.uk/profile/CarolineWalsh
END:VEVENT
END:VCALENDAR
