BEGIN:VCALENDAR
PRODID:NingEventWidget-v1
VERSION:2.0
METHOD:PUBLISH
BEGIN:VTIMEZONE
TZID:Europe/London
X-LIC-LOCATION:Europe/London
BEGIN:DAYLIGHT
TZOFFSETFROM:+0000
TZOFFSETTO:+0100
TZNAME:BST
DTSTART:19700329T010000
RRULE:FREQ=YEARLY;BYMONTH=3;BYDAY=-1SU
END:DAYLIGHT
BEGIN:STANDARD
TZOFFSETFROM:+0100
TZOFFSETTO:+0000
TZNAME:GMT
DTSTART:19701025T020000
RRULE:FREQ=YEARLY;BYMONTH=10;BYDAY=-1SU
END:STANDARD
END:VTIMEZONE
BEGIN:VEVENT
UID:4626108:Event:67738
DTSTAMP:20260419T145011Z
SUMMARY:Business Drinks Club Evening, Guildford
DESCRIPTION:Business Drinks Club -Â every Friday after work!\n\nBusine
 ss Drinks Club is a regular after work drinks evening for local busine
 sses and startups every Friday!\nRun by iThinkLots, Business Drinks Cl
 ub (BDC) is open to local businesses and startups of all sizes as a pl
 ace to meet like-minded people, have some fun and relax after another 
 busy week.\nBusiness Drinks ClubÂ is every Friday evening, from 5-7.30
 pm, at the award winning Britannia Pub, Guildford.\nIt is free to atte
 nd and you can sign up or just turn up on the day! Sign up for our wee
 kly email updates to keep up-to-date on weekly venue announcements, up
 dates and the first word on upcoming events!Â \nCOST: FREE to attend (
 then its up to you if you stick to tap water or celebrate the end of t
 he week with a cold-one).\nBOOKING: You can book by emailing paul@busi
 nessdrinksclub.com, or by phone 07506 428147\nMAP\nThere is plenty of 
 parking in Millmead, and surrounding car parks. The pub is well locate
 d and is within 5 minutes walking distance of the highstreet as well a
 s the train and bus stations.\n------------------------------------\nE
 VENT ORGANISERS:Â iThinkLots also organise the monthly â€˜Thinkathonâ€
 ™ startup event as well as face-to-face and online mentoring.\n\nFor m
 ore information visit https://networkinginsurrey.co.uk/events/business
 -drinks-club-guildford
DTSTART;TZID=Europe/London:20140912T170000
DTEND;TZID=Europe/London:20140912T193000
CATEGORIES:relaxed, networking, "evening.guildford"
LOCATION:The Britannia Pub, GU2 4BE
WEBSITE:https://goo.gl/maps/zSrvX
URL:https://goo.gl/maps/zSrvX
CONTACT:07506 428147
ORGANIZER;CN="Paul Davies":https://networkinginsurrey.co.uk/profile/Pa
 ulDavies
ATTACH;FMTTYPE="image/jpeg":http://storage.ning.com/topology/rest/1.0/
 file/get/2591433610?profile=original
ATTENDEE;ROLE=REQ-PARTICIPANT;PARTSTAT=ACCEPTED;RSVP=TRUE;CN="Paul Dav
 ies":https://networkinginsurrey.co.uk/profile/PaulDavies
END:VEVENT
END:VCALENDAR
