BEGIN:VCALENDAR
PRODID:NingEventWidget-v1
VERSION:2.0
METHOD:PUBLISH
BEGIN:VTIMEZONE
TZID:Europe/London
X-LIC-LOCATION:Europe/London
BEGIN:DAYLIGHT
TZOFFSETFROM:+0000
TZOFFSETTO:+0100
TZNAME:BST
DTSTART:19700329T010000
RRULE:FREQ=YEARLY;BYMONTH=3;BYDAY=-1SU
END:DAYLIGHT
BEGIN:STANDARD
TZOFFSETFROM:+0100
TZOFFSETTO:+0000
TZNAME:GMT
DTSTART:19701025T020000
RRULE:FREQ=YEARLY;BYMONTH=10;BYDAY=-1SU
END:STANDARD
END:VTIMEZONE
BEGIN:VEVENT
UID:4626108:Event:86851
DTSTAMP:20260424T184936Z
SUMMARY:FREE Business Doctors Early Morning Growth Seminar, Kingston
DESCRIPTION:Antidote to the Dragon's Den - 10 Steps to Achieving Growt
 h \n\nAre you looking to take YOUR business to the next level? If so,
  \"The Antidote to The Dragons' Den' is for you!\nCome to this free se
 minar to discover how to achieve business growth, without the need to 
 face the Dragons’!  You will be given a blueprint for achieving gro
 wth by establishing objectives, assessing your business environment, a
 nd formulating and implementing strategies appropriate to your own bus
 iness.\nBusiness Doctors help other businesses with hands-on, friendly
 , practical support, helping their clients develop strategies to achie
 ve growth.\nIf you own or run a small or medium-sized business and are
  targeting growth, then we can help you to get your organisation onto 
 the right path to achieve its full potential.\nAttendance will give yo
 u the opportunity to network and interact with like-minded business pe
 ople, also seeking to grow and develop their business and refreshments
  will be provided.\nCOST: FREE to attend - but booking is essential pl
 ease, for catering purposes\nBOOKING: Please CLICK HERE to claim your
  free place\nMAP\nGo through the gates beside the Old King's Head pub 
 at Kingston Bridge and drive through the park to the Club\n\n\nFor mor
 e information visit https://networkinginsurrey.co.uk/events/business-d
 octors-early-morning-kingston
DTSTART;TZID=Europe/London:20170322T073000
DTEND;TZID=Europe/London:20170322T090000
CATEGORIES:seminar, free, networking, kingston
LOCATION:Hampton Court Palace Golf Club KT1 4AD
WEBSITE:https://www.google.co.uk/maps/place/Hampton+Court+Palace+Golf+
 Club/@51.3956146,-0.319268,15z/data=!4m2!3m1!1s0x0:0x9f2964858629c46d?
 sa=X&ved=0ahUKEwi_joPDrszSAhVKJ8AKHfhRChsQ_BIIezAR
URL:https://www.google.co.uk/maps/place/Hampton+Court+Palace+Golf+Club
 /@51.3956146,-0.319268,15z/data=!4m2!3m1!1s0x0:0x9f2964858629c46d?sa=X
 &ved=0ahUKEwi_joPDrszSAhVKJ8AKHfhRChsQ_BIIezAR
CONTACT:07702 300167
ORGANIZER;CN="John Sweeney":https://networkinginsurrey.co.uk/profile/J
 ohnSweeney
ATTACH;FMTTYPE="image/jpeg":http://storage.ning.com/topology/rest/1.0/
 file/get/2591420228?profile=original
ATTENDEE;ROLE=REQ-PARTICIPANT;PARTSTAT=ACCEPTED;RSVP=TRUE;CN="John Swe
 eney":https://networkinginsurrey.co.uk/profile/JohnSweeney
END:VEVENT
END:VCALENDAR
