BEGIN:VCALENDAR
PRODID:NingEventWidget-v1
VERSION:2.0
METHOD:PUBLISH
BEGIN:VTIMEZONE
TZID:Europe/London
X-LIC-LOCATION:Europe/London
BEGIN:DAYLIGHT
TZOFFSETFROM:+0000
TZOFFSETTO:+0100
TZNAME:BST
DTSTART:19700329T010000
RRULE:FREQ=YEARLY;BYMONTH=3;BYDAY=-1SU
END:DAYLIGHT
BEGIN:STANDARD
TZOFFSETFROM:+0100
TZOFFSETTO:+0000
TZNAME:GMT
DTSTART:19701025T020000
RRULE:FREQ=YEARLY;BYMONTH=10;BYDAY=-1SU
END:STANDARD
END:VTIMEZONE
BEGIN:VEVENT
UID:4626108:Event:18158
DTSTAMP:20260424T062841Z
SUMMARY:Business @ Brooklands Morning, Weybridge
DESCRIPTION:Networking Morning at Mercedes Benz World\n\nBusiness@Broo
 klands will be hosting our second event at Mercedes-Benz World coincid
 ing withÂ the release of the new edition of our quarterlyÂ magazine. A
 ll businesses within the Brooklands Business Park, the Heights andÂ  O
 yster Lane areas are invited to attend.\nCOST:Â Â£10Â Â \nFree of char
 ge to Enhanced, Gold & Platinum Members (Please see ourÂ Membership pa
 geÂ for more details). Businesses outside the park (by invitation only
 ) Â£15 per person incl. VAT.\nTo enquire about the event, please email
  us to enquiries@businessatbrooklands.co.ukÂ \nVENUE\nMAP & DIRECTIONS
  Mercedes Benz World shares an entrance with Brooklands Museum on the 
 roundabout at the top of Sopwith Drive. Parking is ample and free.\nï»
 ¿\n-----------------------------------------\nBusiness@Brooklands Even
 ts will be held every quarter at different venues within the Brookland
 s area. If you would like to host an event please let us know!\n\nFor 
 more information visit https://networkinginsurrey.co.uk/events/busines
 s-brooklands-morning
DTSTART;TZID=Europe/London:20110610T110000
DTEND;TZID=Europe/London:20110610T130000
CATEGORIES:morning, weybridge
LOCATION:Mercedes-Benz World at Brooklands
WEBSITE:http://www.businessatbrooklands.co.uk/index.html
URL:http://www.businessatbrooklands.co.uk/index.html
CONTACT:
ORGANIZER;CN="Karen Sutton":https://networkinginsurrey.co.uk/profile/K
 arenSutton
ATTACH;FMTTYPE="image/jpeg":http://storage.ning.com/topology/rest/1.0/
 file/get/2591390513?profile=original
ATTENDEE;ROLE=REQ-PARTICIPANT;PARTSTAT=ACCEPTED;RSVP=TRUE;CN="Karen Su
 tton":https://networkinginsurrey.co.uk/profile/KarenSutton
ATTENDEE;ROLE=REQ-PARTICIPANT;PARTSTAT=TENTATIVE;RSVP=TRUE;CN="Richard
  Chandler":https://networkinginsurrey.co.uk/profile/RichardChandler
END:VEVENT
END:VCALENDAR
