BEGIN:VCALENDAR
PRODID:NingEventWidget-v1
VERSION:2.0
METHOD:PUBLISH
BEGIN:VTIMEZONE
TZID:Europe/London
X-LIC-LOCATION:Europe/London
BEGIN:DAYLIGHT
TZOFFSETFROM:+0000
TZOFFSETTO:+0100
TZNAME:BST
DTSTART:19700329T010000
RRULE:FREQ=YEARLY;BYMONTH=3;BYDAY=-1SU
END:DAYLIGHT
BEGIN:STANDARD
TZOFFSETFROM:+0100
TZOFFSETTO:+0000
TZNAME:GMT
DTSTART:19701025T020000
RRULE:FREQ=YEARLY;BYMONTH=10;BYDAY=-1SU
END:STANDARD
END:VTIMEZONE
BEGIN:VEVENT
UID:4626108:Event:75965
DTSTAMP:20260425T220213Z
SUMMARY:Business Biscotti Morning, Walton on Thames
DESCRIPTION:Friendly informal Biscotti Networking at the Riverhouse Ba
 rn\n\nCome to Walton / Weybridge Business Biscotti this Thursday for T
 wice the FUN!\nJoin us for Friendly Unlimited Networking and Festive U
 nmissable Nibbles for two hours on Thursday morning and have twice the
  FUN (get it??)\nAt Business Biscotti you can make new relationships, 
 develop existing ones and contribute to your local business community 
 in a relaxed, informal and friendly environment.\nCome to Walton / Wey
 bridge Biscotti any time between 10 and 12am, stay for the whole meet
 ing or drop in for a quick coffee and chat (and nibbles!) between othe
 r appointments. \nYou'll find people to do business with, to collabor
 ate with, to help and to ask for advice. Business Biscotti is here to 
 support you in your business, and we invite you to support your local 
 business community with your presence, knowledge and contacts. \nIf t
 he weather's good, you'll probably find us in the garden!\nCOST: FREE 
 to attend for members. Non-members contribute £5 to our group charity
  and just pay £3 for unlimited tea or coffee\nBOOKING: No need to boo
 k - just come whenever it suits you between 10 and 12\nMAP\nPlenty of 
 free on-street parking, as well as car park. To enter the venue, walk 
 around to the car park and enter the courtyard. Enter the glass part o
 f the building and you will see the door into the barn on your right -
  or left, if you use the street entrance.\nFor more information about 
 this group, please see Walton & Weybridge Business Biscotti\n\n\nFor 
 more information visit https://networkinginsurrey.co.uk/events/busines
 s-biscotti-morning-walton-on-thames-11
DTSTART;TZID=Europe/London:20151217T100000
DTEND;TZID=Europe/London:20151217T120000
CATEGORIES:business, networking, walton, weybridge, biscotti
LOCATION:Riverhouse Barn Arts Centre
WEBSITE:http://www.riverhousebarn.co.uk
URL:http://www.riverhousebarn.co.uk
CONTACT:077790 64646
ORGANIZER;CN="Sonia Duggan, Life Coach Surrey":https://networkinginsur
 rey.co.uk/profile/SoniaDuggan
ATTACH;FMTTYPE="image/jpeg":http://storage.ning.com/topology/rest/1.0/
 file/get/211099745?profile=original
ATTENDEE;ROLE=REQ-PARTICIPANT;PARTSTAT=ACCEPTED;RSVP=TRUE;CN="Sonia Du
 ggan, Life Coach Surrey":https://networkinginsurrey.co.uk/profile/Soni
 aDuggan
END:VEVENT
END:VCALENDAR
