BEGIN:VCALENDAR
PRODID:NingEventWidget-v1
VERSION:2.0
METHOD:PUBLISH
BEGIN:VTIMEZONE
TZID:Europe/London
X-LIC-LOCATION:Europe/London
BEGIN:DAYLIGHT
TZOFFSETFROM:+0000
TZOFFSETTO:+0100
TZNAME:BST
DTSTART:19700329T010000
RRULE:FREQ=YEARLY;BYMONTH=3;BYDAY=-1SU
END:DAYLIGHT
BEGIN:STANDARD
TZOFFSETFROM:+0100
TZOFFSETTO:+0000
TZNAME:GMT
DTSTART:19701025T020000
RRULE:FREQ=YEARLY;BYMONTH=10;BYDAY=-1SU
END:STANDARD
END:VTIMEZONE
BEGIN:VEVENT
UID:4626108:Event:104140
DTSTAMP:20260424T010509Z
SUMMARY:Business Biscotti Morning Visitor Day, Cobham
DESCRIPTION:Business Biscotti Cobham & Esher at the Fairmile\r\n\r\n\r
 \n\r\n\r\n\r\nFEBRUARY SPECIAL - Visitors can pre-book online and pay 
 Â£6 instead of the standard Â£10 meeting fee (plus Â£3 cash for tea/co
 ffee on the day) - use the Coupon codeÂ TREAT to get the discount!\r\n
 Networking with Business Biscotti is different...\r\nWe want people to
  enter into meaningful business relationships and gain business, but a
 lso to put something back by participating and contributing to the Com
 munity, for the benefit of all of us.\r\nBusiness Biscotti is differen
 t from other networking organisations â€“ as its philosophy is to SUPP
 ORT neighbourhood marketing principles; ie to think globally but to do
  business locally.\r\nJust show up at any time during the session, as 
 there's no formality or rules...\r\n \r\nCobham & Esher Biscotti is ho
 sted by NiS MembersÂ Geoff ChapmanÂ  andÂ Keith Grover\r\nCOST:Â Bisco
 ttiÂ MembersÂ FREEÂ to attend;Â non-MembersÂ OFFERÂ Â£6 (usually Â£10 
 - use Coupon Code TREAT)Â plusÂ all attendeesÂ payÂ Â£3Â cash on the d
 ay for unlimited Â tea or coffee, which goes to the venue\r\nBOOKING:Â
   Visitors pleaseÂ CLICK HEREÂ to book\r\nMAPÂ \r\nPlenty of free park
 ing available\r\n\r\n-------------------------------------------\r\nMe
 mbership of Business Biscotti is Â£99 per year (details here...) and M
 embers can attend any Business Biscotti meeting just paying Â£3 - Â£5 
 for tea & coffee which goes directly to the venue in return for hostin
 g the meeting.\n\nFor more information visit https://networkinginsurre
 y.co.uk/events/business-biscotti-morning-visitor-day-cobham
DTSTART;TZID=Europe/London:20190305T100000
DTEND;TZID=Europe/London:20190305T120000
CATEGORIES:morning, biscotti, cobham, esher, free
LOCATION:The Fairmile and Premier Inn KT11 1BQ
WEBSITE:
URL:
CONTACT:01932 843814
ORGANIZER;CN="Keith Grover, NiS Founder":https://networkinginsurrey.co
 .uk/profile/KeithGrover
ATTACH;FMTTYPE="image/jpeg":https://storage.ning.com/topology/rest/1.0
 /file/get/180333157?profile=original
ATTENDEE;ROLE=REQ-PARTICIPANT;PARTSTAT=ACCEPTED;RSVP=TRUE;CN="Keith Gr
 over, NiS Founder":https://networkinginsurrey.co.uk/profile/KeithGrove
 r
END:VEVENT
END:VCALENDAR
