BEGIN:VCALENDAR
PRODID:NingEventWidget-v1
VERSION:2.0
METHOD:PUBLISH
BEGIN:VTIMEZONE
TZID:Europe/London
X-LIC-LOCATION:Europe/London
BEGIN:DAYLIGHT
TZOFFSETFROM:+0000
TZOFFSETTO:+0100
TZNAME:BST
DTSTART:19700329T010000
RRULE:FREQ=YEARLY;BYMONTH=3;BYDAY=-1SU
END:DAYLIGHT
BEGIN:STANDARD
TZOFFSETFROM:+0100
TZOFFSETTO:+0000
TZNAME:GMT
DTSTART:19701025T020000
RRULE:FREQ=YEARLY;BYMONTH=10;BYDAY=-1SU
END:STANDARD
END:VTIMEZONE
BEGIN:VEVENT
UID:4626108:Event:104243
DTSTAMP:20260423T222329Z
SUMMARY:Business Biscotti Morning Visitor Day, Cobham
DESCRIPTION:Business Biscotti Cobham & Esher at the Fairmile\r\n\r\n**
 ******************************************************\r\nAPRIL SPECIA
 L - £20 OFF Business Biscotti ANNUAL MEMBERSHIP - at this meeting onl
 y! \r\n********************************************************\r\nFo
 r old and new Biscottiers alike, a saving of £20 off the £99 annual 
 subscription is an absolute steal! Simply attend this meeting to claim
  your discounted Membership rate. This means you'll be able to attend 
 ANY BISCOTTI MEETING over the next 12 months and only pay for your tea
  and coffee (typically £3 - £5, depending on the venue). \r\n\r\n\r
 \n\r\n\r\n\r\nGET WORKING WITH YOUR NETWORKING!\r\nCome and meet peopl
 e and LEARN something new @ COBHAM in April - please tell your friends
 \r\n\r\nOpen networking followed by a 15 minute presentation from Keit
 h Grover,  Networking in Surrey\r\nGET WORKING WITH YOUR NETWORKING!\
 r\n- Do you have a powerful and persuasive personal brand? - How great
  is your 60-second ‘elevator pitch’ - would you like to make it be
 tter? - What’s your networking strategy for optimum results? - How c
 an you ‘work the room’ effectively at events?\r\nDiscover how to d
 o all this and more in an informal 15-minute presentation from experie
 nced networker Keith Grover of Networking in Surrey fame, full of prac
 tical tips and techniques to make your networking more productive - an
 d fun!\r\n\r\n\r\n\r\n\r\n\r\n \r\nCobham & Esher Biscotti is hosted b
 y NiS Members Geoff Chapman  and Keith Grover\r\nCOST: Biscotti M
 embers FREE to attend; non-Members OFFER £6 (usually £10 - use 
 Coupon Code TREAT) plus all attendees pay £3 cash on the day for
  unlimited  tea or coffee, which goes to the venue\r\nBOOKING:  Visi
 tors please CLICK HERE to book\r\nMAP \r\nPlenty of free parking av
 ailable \r\n-------------------------------------------\r\nMembership 
 of Business Biscotti is £99 per year (details here...) and Members ca
 n attend any Business Biscotti meeting just paying £3 - £5 for tea &
  coffee which goes directly to the venue in return for hosting the mee
 ting.\n\nFor more information visit https://networkinginsurrey.co.uk/e
 vents/business-biscotti-morning-visitor-day-cobham-1
DTSTART;TZID=Europe/London:20190402T100000
DTEND;TZID=Europe/London:20190402T120000
CATEGORIES:morning, biscotti, cobham, esher, free
LOCATION:The Fairmile and Premier Inn KT11 1BQ
WEBSITE:
URL:
CONTACT:01932 843814
ORGANIZER;CN="Keith Grover, NiS Founder":https://networkinginsurrey.co
 .uk/profile/KeithGrover
ATTACH;FMTTYPE="image/jpeg":https://storage.ning.com/topology/rest/1.0
 /file/get/180333157?profile=original
ATTENDEE;ROLE=REQ-PARTICIPANT;PARTSTAT=ACCEPTED;RSVP=TRUE;CN="Keith Gr
 over, NiS Founder":https://networkinginsurrey.co.uk/profile/KeithGrove
 r
END:VEVENT
END:VCALENDAR
