BEGIN:VCALENDAR
PRODID:NingEventWidget-v1
VERSION:2.0
METHOD:PUBLISH
BEGIN:VTIMEZONE
TZID:Europe/London
X-LIC-LOCATION:Europe/London
BEGIN:DAYLIGHT
TZOFFSETFROM:+0000
TZOFFSETTO:+0100
TZNAME:BST
DTSTART:19700329T010000
RRULE:FREQ=YEARLY;BYMONTH=3;BYDAY=-1SU
END:DAYLIGHT
BEGIN:STANDARD
TZOFFSETFROM:+0100
TZOFFSETTO:+0000
TZNAME:GMT
DTSTART:19701025T020000
RRULE:FREQ=YEARLY;BYMONTH=10;BYDAY=-1SU
END:STANDARD
END:VTIMEZONE
BEGIN:VEVENT
UID:4626108:Event:101986
DTSTAMP:20260424T080546Z
SUMMARY:Business Biscotti Morning, Guildford
DESCRIPTION:Business Biscotti Morning at the Parkway Beefeater \n\nJo
 in us for our next club event on 3rd January\nCome and meet our member
 s and forge new business relationships at the Guildford Business Bisco
 tti Club event at The Parkway, Guildford on Thursday, 3rd of January 
  between 9.30 am until 11.30.\nWho is it for?\nBusiness Biscotti is a
  Private Membership Organisation -- we run business clubs.\nWe warmly 
 welcome people from all walks of business life.\nLarge companies and s
 mall.\nThe membership fee is great value at £99 per year per person.\
 nWhy are we different?\nWe are a thriving UK business community.\nWe s
 hare success stories, encourage collaboration, nurture business growth
 , and most importantly WE DO BUSINESS.\nVisitors pay a guest fee of £
 10 (plus the local refreshment charge)\nWhat is the format?\nEvery clu
 b is slightly different however each club runs fun, flexible & friendl
 y networking -- so bring plenty of business cards.\nCOST: Biscotti Me
 mbers FREE to attend; non-Members £10 (plus all attendees pay £3
  cash on the day for unlimited  tea or coffee, which goes to the ven
 ue)\nBOOKING:  Visitors please CLICK HERE to book\nMAP\nParking is 
 free for customers\n---------------------------------\nYou can attend 
 two Business Biscotti meetings as a Visitor before you have to join. M
 embership is £99 per year which allows you to go to any Biscotti meet
 ing across the UK and just pay for your tea & coffee on the day. Find 
 more local Business Biscotti meetings here on NiS... \nOr visit th
 e Biscotti website here...\n\nFor more information visit https://netwo
 rkinginsurrey.co.uk/events/business-biscotti-morning-guildford
DTSTART;TZID=Europe/London:20190103T093000
DTEND;TZID=Europe/London:20190103T113000
CATEGORIES:networking
LOCATION:Premier Inn Guildford
WEBSITE:https://www.businessbiscotti.co.uk/
URL:https://www.businessbiscotti.co.uk/
CONTACT:01483453755
ORGANIZER;CN="Edward Tudor":https://networkinginsurrey.co.uk/profile/E
 dwardTudor
ATTACH;FMTTYPE="image/jpeg":https://storage.ning.com/topology/rest/1.0
 /file/get/211099745?profile=original
ATTENDEE;ROLE=REQ-PARTICIPANT;PARTSTAT=ACCEPTED;RSVP=TRUE;CN="Edward T
 udor":https://networkinginsurrey.co.uk/profile/EdwardTudor
END:VEVENT
END:VCALENDAR
