BEGIN:VCALENDAR
PRODID:NingEventWidget-v1
VERSION:2.0
METHOD:PUBLISH
BEGIN:VTIMEZONE
TZID:Europe/London
X-LIC-LOCATION:Europe/London
BEGIN:DAYLIGHT
TZOFFSETFROM:+0000
TZOFFSETTO:+0100
TZNAME:BST
DTSTART:19700329T010000
RRULE:FREQ=YEARLY;BYMONTH=3;BYDAY=-1SU
END:DAYLIGHT
BEGIN:STANDARD
TZOFFSETFROM:+0100
TZOFFSETTO:+0000
TZNAME:GMT
DTSTART:19701025T020000
RRULE:FREQ=YEARLY;BYMONTH=10;BYDAY=-1SU
END:STANDARD
END:VTIMEZONE
BEGIN:VEVENT
UID:4626108:Event:75358
DTSTAMP:20260426T034343Z
SUMMARY:Business Biscotti Xmas Special Morning, Cobham
DESCRIPTION:Business Biscotti Cobham & Esher Christmas Special at the 
 Fairmile\n\n\n* £50 Membership Prize Draw Entry!\n* Mince Pies & Mull
 ed Wine\n* Guest Star Sue Reeves!!!\n* Christmas Prize Quiz\n(Wear a C
 hristmas Hat and/or Jumper - optional!)\nBusiness Biscotti are giving 
 away one year's FREE MEMBERSHIP in our January Draw worth £50. (BB Me
 mbers get a year added on at the end of their existing Membership). Yo
 u can put a business card into the draw in December, and again at our 
 January meeting, when the draw will take place - LIVE!\n--------------
 ------------------------------\nNetworking with Business Biscotti is d
 ifferent...\nWe want people to enter into meaningful business relation
 ships and gain business, but also to put something back by participati
 ng and contributing to the Community, for the benefit of all of us.\nB
 usiness Biscotti is different from other networking organisations – 
 as its philosophy is to SUPPORT neighbourhood marketing principles; ie
  to think globally but to do business locally.\n\n\nCobham & Esher Bis
 cotti is hosted by NiS Members Tessa Hood, Geoff Chapman  and Keit
 h Grover\nCOST: Biscotti Members FREE to attend, non-Members £5 - pl
 us all attendees pay £3 for unlimited  tea or coffee which goes to t
 he venue\nBOOKING- No need to book - just show up at any time during t
 he session, as there's no formality or rules...\nMAP \nPlenty of free
  parking available\n\n-------------------------------------------\nMem
 bership of Business Biscotti is £50 + VAT per year (details here...) 
 and Members can attend any Business Biscotti meeting just paying £3 -
  £5 for tea & coffee which goes directly to the venue in return for h
 osting the meeting.\n\n\nFor more information visit https://networking
 insurrey.co.uk/events/business-biscotti-morning-cobham-8
DTSTART;TZID=Europe/London:20151201T100000
DTEND;TZID=Europe/London:20151201T120000
CATEGORIES:morning, biscotti, cobham, esher, free
LOCATION:The Fairmile & Premier Inn KT11 1BQ
WEBSITE:
URL:
CONTACT:01932 845814
ORGANIZER;CN="Keith Grover, NiS Founder":https://networkinginsurrey.co
 .uk/profile/KeithGrover
ATTACH;FMTTYPE="image/jpeg":http://storage.ning.com/topology/rest/1.0/
 file/get/211099745?profile=original
ATTENDEE;ROLE=REQ-PARTICIPANT;PARTSTAT=ACCEPTED;RSVP=TRUE;CN="Keith Gr
 over, NiS Founder":https://networkinginsurrey.co.uk/profile/KeithGrove
 r
END:VEVENT
END:VCALENDAR
