BEGIN:VCALENDAR
PRODID:NingEventWidget-v1
VERSION:2.0
METHOD:PUBLISH
BEGIN:VTIMEZONE
TZID:Europe/London
X-LIC-LOCATION:Europe/London
BEGIN:DAYLIGHT
TZOFFSETFROM:+0000
TZOFFSETTO:+0100
TZNAME:BST
DTSTART:19700329T010000
RRULE:FREQ=YEARLY;BYMONTH=3;BYDAY=-1SU
END:DAYLIGHT
BEGIN:STANDARD
TZOFFSETFROM:+0100
TZOFFSETTO:+0000
TZNAME:GMT
DTSTART:19701025T020000
RRULE:FREQ=YEARLY;BYMONTH=10;BYDAY=-1SU
END:STANDARD
END:VTIMEZONE
BEGIN:VEVENT
UID:4626108:Event:100801
DTSTAMP:20260422T031032Z
SUMMARY:FREE Business Biscotti Morning, Cobham
DESCRIPTION:FREE Business Biscotti Cobham & Esher at the Fairmile\r\n\
 r\n\r\n\r\n\r\n\r\nNetworking with Business Biscotti is different...\r
 \nWe want people to enter into meaningful business relationships and g
 ain business, but also to put something back by participating and cont
 ributing to the Community, for the benefit of all of us.\r\nBusiness B
 iscotti is different from other networking organisations – as its ph
 ilosophy is to SUPPORT neighbourhood marketing principles; ie to think
  globally but to do business locally.\r\nJust show up at any time duri
 ng the session, as there's no formality or rules...\r\n \r\nCobham & E
 sher Biscotti is hosted by NiS Members Geoff Chapman  and Keith Gro
 ver\r\nCOST: Biscotti Members FREE to attend; non-Members £10 
 (plus all attendees pay £3 cash on the day for unlimited  tea or
  coffee, which goes to the venue)\r\nBOOKING:  Visitors please CLICK
  HERE to book\r\nMAP \r\nPlenty of free parking available \r\n------
 -------------------------------------\r\nMembership of Business Biscot
 ti is £99 per year (details here...) and Members can attend any Busin
 ess Biscotti meeting just paying £3 - £5 for tea & coffee which goes
  directly to the venue in return for hosting the meeting.\n\nFor more 
 information visit https://networkinginsurrey.co.uk/events/business-bis
 cotti-morning-cobham-365
DTSTART;TZID=Europe/London:20181002T100000
DTEND;TZID=Europe/London:20181002T120000
CATEGORIES:morning, biscotti, cobham, esher, free
LOCATION:The Fairmile and Premier Inn KT11 1BQ
WEBSITE:
URL:
CONTACT:01932 843814
ORGANIZER;CN="Keith Grover, NiS Founder":https://networkinginsurrey.co
 .uk/profile/KeithGrover
ATTACH;FMTTYPE="image/jpeg":http://storage.ning.com/topology/rest/1.0/
 file/get/211099745?profile=original
ATTENDEE;ROLE=REQ-PARTICIPANT;PARTSTAT=ACCEPTED;RSVP=TRUE;CN="Keith Gr
 over, NiS Founder":https://networkinginsurrey.co.uk/profile/KeithGrove
 r
END:VEVENT
END:VCALENDAR
