BEGIN:VCALENDAR
PRODID:NingEventWidget-v1
VERSION:2.0
METHOD:PUBLISH
BEGIN:VTIMEZONE
TZID:Europe/London
X-LIC-LOCATION:Europe/London
BEGIN:DAYLIGHT
TZOFFSETFROM:+0000
TZOFFSETTO:+0100
TZNAME:BST
DTSTART:19700329T010000
RRULE:FREQ=YEARLY;BYMONTH=3;BYDAY=-1SU
END:DAYLIGHT
BEGIN:STANDARD
TZOFFSETFROM:+0100
TZOFFSETTO:+0000
TZNAME:GMT
DTSTART:19701025T020000
RRULE:FREQ=YEARLY;BYMONTH=10;BYDAY=-1SU
END:STANDARD
END:VTIMEZONE
BEGIN:VEVENT
UID:4626108:Event:95774
DTSTAMP:20260423T100313Z
SUMMARY:Business Biscotti Morning, Guildford
DESCRIPTION:Business Biscotti Morning at the Parkway Beefeater \r\n\r
 \nYou are invited to the next Guildford Business Biscotti business net
 working event starting at 9.30am until 11.30am.\r\nBusiness Biscotti i
 s what networking is all about - meeting and forming business relation
 ships with like-minded people. We like to think we provide an antidote
  to formal networking.\r\nAt Biscotti you'll find: * It's business net
 working for all! * You can come and go when you like\r\nThere are no l
 imits on who can attend: * All professions and any number of the same 
 * Men & women welcome\r\nWe feel that open networking allows you to fo
 rge the relationships you need to do business with each other.  You m
 ake the contacts, we provide the environment.\r\nMeetings: 1st Thursda
 y: 9.30am - 11.30am  (some dates are subject to change, please ensure
  you check the events calendar.)\r\nGuildford Biscotti runs from 09.30
  to 11.30 or you can join Leon and myself for breakfast at 8.30. Arriv
 e at any time between 9.30am until 11.30am and leave at your leisure.
  Because there is no formal start, finish or set agenda you can make i
 t work for you. \r\nIt's all about relationships and trust - building
  both takes time and effort but the rewards are limitless.  At Busine
 ss Biscotti we are passionate about true networking.  Not just making
  lots of contacts and filling up your business card box, anyone can do
  that.  It's about communication, trust and building relationships th
 at lead to lasting and mutually rewarding business.\r\n So put the da
 te in your diary - come along and bring anyone you think will benefit.
  Just dip in and out between 9.30am until 11.30am as you please.  Th
 e meeting and the philosophy are simple;   if you want to network, m
 ake contacts and forge business relationships in an informal environme
 nt try Business Biscotti.\r\nCOST: Biscotti Members FREE to attend;
  non-Members £10 (plus all attendees pay £3 cash on the day for u
 nlimited  tea or coffee, which goes to the venue)\r\nBOOKING:  Visit
 ors please CLICK HERE to book\r\nMAP \r\nParking is free for custome
 rs\r\n---------------------------------\r\nYou can attend two Business
  Biscotti meetings as a Visitor before you have to join. Membership is
  £99 per year which allows you to go to any Biscotti meeting across t
 he UK and just pay for your tea & coffee on the day. Find more local 
 Business Biscotti meetings here on NiS...\r\n\n\nFor more informatio
 n visit https://networkinginsurrey.co.uk/events/business-biscotti-guil
 dford-1
DTSTART;TZID=Europe/London:20180301T213000
DTEND;TZID=Europe/London:20180301T233000
CATEGORIES:business, biscotti
LOCATION:The Parkway Hotel
WEBSITE:https://www.google.co.uk/maps/place/Stoke+Rd,+Guildford+GU1+1H
 B/@51.2477286,-0.5708128,17z/data=!3m1!4b1!4m5!3m4!1s0x4875d0a489a3d2c
 b:0x9cc8092fe5e13e9a!8m2!3d51.2470015!4d-0.5698717
URL:https://www.google.co.uk/maps/place/Stoke+Rd,+Guildford+GU1+1HB/@5
 1.2477286,-0.5708128,17z/data=!3m1!4b1!4m5!3m4!1s0x4875d0a489a3d2cb:0x
 9cc8092fe5e13e9a!8m2!3d51.2470015!4d-0.5698717
CONTACT:07887531201
ORGANIZER;CN="Edward Tudor":https://networkinginsurrey.co.uk/profile/E
 dwardTudor
ATTACH;FMTTYPE="image/jpeg":http://storage.ning.com/topology/rest/1.0/
 file/get/211099745?profile=original
ATTENDEE;ROLE=REQ-PARTICIPANT;PARTSTAT=ACCEPTED;RSVP=TRUE;CN="Edward T
 udor":https://networkinginsurrey.co.uk/profile/EdwardTudor
END:VEVENT
END:VCALENDAR
