BEGIN:VCALENDAR
PRODID:NingEventWidget-v1
VERSION:2.0
METHOD:PUBLISH
BEGIN:VTIMEZONE
TZID:Europe/London
X-LIC-LOCATION:Europe/London
BEGIN:DAYLIGHT
TZOFFSETFROM:+0000
TZOFFSETTO:+0100
TZNAME:BST
DTSTART:19700329T010000
RRULE:FREQ=YEARLY;BYMONTH=3;BYDAY=-1SU
END:DAYLIGHT
BEGIN:STANDARD
TZOFFSETFROM:+0100
TZOFFSETTO:+0000
TZNAME:GMT
DTSTART:19701025T020000
RRULE:FREQ=YEARLY;BYMONTH=10;BYDAY=-1SU
END:STANDARD
END:VTIMEZONE
BEGIN:VEVENT
UID:4626108:Event:52041
DTSTAMP:20260423T130949Z
SUMMARY:Business Biscotti Morning, Betchworth
DESCRIPTION:Business Biscotti Dorking & Reigate at Hartsfield Manor\n\
 nDorking Reigate Biscotti meets on the last Tuesday of each month from
  10.00- 12.00am.\nBusiness Biscotti is what networking is all about â€
 “ meeting and forming business relationships with like minded people. 
 Our philosophy is about building relationships and these regular meeti
 ngs offer a relaxed way to meet other local businesses.\nBOOKING- No n
 eed to book - just show up at any time during the session, as there's 
 no formality or rules...\nCOST:Â  Biscotti Memebers just pay Â£3 for u
 nlimited tea and coffee - visitors pay an additional Â£5 meeting fee\n
 MAP\n-------------------------------------------\nBusiness Biscotti Me
 mbershipÂ is currently Â£99 (no VAT) Â for a whole year and entitles y
 ou to attend any Business Biscotti meeting and just pay the tea/coffee
  charge of Â£3 each time. Non-members pay Â£5 guest meeting fee and ca
 n have up to 2 trial visits before joining.\nFind moreÂ Surrey Biscott
 i groups here..Â \n\nFor more information visit https://networkinginsu
 rrey.co.uk/events/business-biscotti-4
DTSTART;TZID=Europe/London:20171128T100000
DTEND;TZID=Europe/London:20171128T120000
CATEGORIES:free, networking
LOCATION:Hartsfield Manor RH3 7AA
WEBSITE:http://www.businessbiscotti.co.uk
URL:http://www.businessbiscotti.co.uk
CONTACT:07804 693122
ORGANIZER:Soraya Anderson, Michael Eve, Gill Sepe &amp; Louise Camby
ATTACH;FMTTYPE="image/jpeg":http://storage.ning.com/topology/rest/1.0/
 file/get/211099745?profile=original
ATTENDEE;ROLE=REQ-PARTICIPANT;PARTSTAT=ACCEPTED;RSVP=TRUE;CN="Soraya A
 nderson":https://networkinginsurrey.co.uk/profile/SorayaAnderson
END:VEVENT
END:VCALENDAR
