BEGIN:VCALENDAR
PRODID:NingEventWidget-v1
VERSION:2.0
METHOD:PUBLISH
BEGIN:VTIMEZONE
TZID:Europe/London
X-LIC-LOCATION:Europe/London
BEGIN:DAYLIGHT
TZOFFSETFROM:+0000
TZOFFSETTO:+0100
TZNAME:BST
DTSTART:19700329T010000
RRULE:FREQ=YEARLY;BYMONTH=3;BYDAY=-1SU
END:DAYLIGHT
BEGIN:STANDARD
TZOFFSETFROM:+0100
TZOFFSETTO:+0000
TZNAME:GMT
DTSTART:19701025T020000
RRULE:FREQ=YEARLY;BYMONTH=10;BYDAY=-1SU
END:STANDARD
END:VTIMEZONE
BEGIN:VEVENT
UID:4626108:Event:64479
DTSTAMP:20260420T062521Z
SUMMARY:MEMBER PROMO: Morning Blogging Workshop, Woking
DESCRIPTION:Build your Blog and your Business\nJoin award-winning agen
 cy Padua Communications for this blogging workshop runÂ in conjunction
  with Connect2Innovation and Woking Borough Council.\nBlogging is one 
 of the easiest ways to keep your website up-to-date and in front of Go
 ogleâ€™s nose, as well as informing your customers about your company,
  products and services.\nBut what makes a good blog? And what are the 
 key things you need to be aware of when creating content? Â \nJoin us 
 for a 3-hour workshop where you will learn how to build your blog and 
 your business:\n\nWhy content matters\nChoosing words that work\nIdent
 ifying your audience and content that will appeal to them\nCreating a 
 content road map\nWays of amplifying your content on social media plat
 forms\nReusing content in other marketing activities\nHow to write com
 pelling content for the web\nWriting for SEO\nContent tone of voice an
 d policies\nTurning content creation into a habit\nDeveloping attentio
 n-grabbing headings\nCalls to Action\n\nCOST: Â£50 + VAT.\nBOOKING:Â T
 o reserve your place, emailÂ yolanda@paduacommunications.comÂ or ringÂ
  0203 282 7570.\nMAPÂ \nHow to FInd Us details will be supplied for at
 tendees\n\nFor more information visit https://networkinginsurrey.co.uk
 /events/build-your-blog-and-your-business
DTSTART;TZID=Europe/London:20140501T093000
DTEND;TZID=Europe/London:20140501T123000
CATEGORIES:blogging, workshop, morning, woking
LOCATION:Connect2Innovation hub, 2nd floor Exchange House GU21 6QX
WEBSITE:http://www.paduacommunications.com/contact-us/
URL:http://www.paduacommunications.com/contact-us/
CONTACT:0203 282 7570
ORGANIZER;CN="Nicky Rudd":https://networkinginsurrey.co.uk/profile/Nic
 kyRudd
ATTACH;FMTTYPE="image/jpeg":http://storage.ning.com/topology/rest/1.0/
 file/get/2591426828?profile=original
ATTENDEE;ROLE=REQ-PARTICIPANT;PARTSTAT=ACCEPTED;RSVP=TRUE;CN="Nicky Ru
 dd":https://networkinginsurrey.co.uk/profile/NickyRudd
END:VEVENT
END:VCALENDAR
