BEGIN:VCALENDAR
PRODID:NingEventWidget-v1
VERSION:2.0
METHOD:PUBLISH
BEGIN:VTIMEZONE
TZID:Europe/London
X-LIC-LOCATION:Europe/London
BEGIN:DAYLIGHT
TZOFFSETFROM:+0000
TZOFFSETTO:+0100
TZNAME:BST
DTSTART:19700329T010000
RRULE:FREQ=YEARLY;BYMONTH=3;BYDAY=-1SU
END:DAYLIGHT
BEGIN:STANDARD
TZOFFSETFROM:+0100
TZOFFSETTO:+0000
TZNAME:GMT
DTSTART:19701025T020000
RRULE:FREQ=YEARLY;BYMONTH=10;BYDAY=-1SU
END:STANDARD
END:VTIMEZONE
BEGIN:VEVENT
UID:4626108:Event:75419
DTSTAMP:20260426T004041Z
SUMMARY:Charity Bucks Fizz Breakfast, West Clandon
DESCRIPTION:Charity Networking Breakfast at The Onslow Arms\n\nWoking 
 & Sam Beare Hospices are independent charities dedicated to providing 
 specialised end of life care and support to local people, their famili
 es, friends and carers.\nThey depend on donations and fundraising to b
 e able to continue their amazing work. Come and enjoy an excellent bre
 akfast and some civilised and productive business netwokring in a love
 ly venue, and make a difference.\nWe look forward to welcoming you and
  enjoying a great start to a Thursday, for a great cause!\nCOST:£20 
 per person including breakfast (all profits to charity)\nBOOKING: Ple
 ase confirm your intention to attend to sally@residentialpropertysearc
 h.com  (by Wednesday 21 October if possible) and I can advise the det
 ails for your donation.\nMAP\nAmple free parking\n\n\nFor more informa
 tion visit https://networkinginsurrey.co.uk/events/bucks-fizz-breakfas
 t-networking-morning
DTSTART;TZID=Europe/London:20151112T073000
DTEND;TZID=Europe/London:20151112T103000
CATEGORIES:fundraiser, breakfast, west_clandon, woking_and_sam_beare_h
 ospice
LOCATION:The Onslow Arms GU4 7TF
WEBSITE:
URL:
CONTACT:01483 222 447
ORGANIZER:Woking and Sam Beare Hospice
ATTACH;FMTTYPE="image/jpeg":http://storage.ning.com/topology/rest/1.0/
 file/get/2591446886?profile=original
ATTENDEE;ROLE=REQ-PARTICIPANT;PARTSTAT=ACCEPTED;RSVP=TRUE;CN="Sally Ru
 le":https://networkinginsurrey.co.uk/profile/SallyRule
END:VEVENT
END:VCALENDAR
