BEGIN:VCALENDAR
PRODID:NingEventWidget-v1
VERSION:2.0
METHOD:PUBLISH
BEGIN:VTIMEZONE
TZID:Europe/London
X-LIC-LOCATION:Europe/London
BEGIN:DAYLIGHT
TZOFFSETFROM:+0000
TZOFFSETTO:+0100
TZNAME:BST
DTSTART:19700329T010000
RRULE:FREQ=YEARLY;BYMONTH=3;BYDAY=-1SU
END:DAYLIGHT
BEGIN:STANDARD
TZOFFSETFROM:+0100
TZOFFSETTO:+0000
TZNAME:GMT
DTSTART:19701025T020000
RRULE:FREQ=YEARLY;BYMONTH=10;BYDAY=-1SU
END:STANDARD
END:VTIMEZONE
BEGIN:VEVENT
UID:4626108:Event:3130
DTSTAMP:20260425T212527Z
SUMMARY:BRX Visitors Day Breakfast, Dorking
DESCRIPTION:BRX Dorking Visitors Day - come and meet us!\n\nCome and j
 oin us for breakfast and promote your business to our Members and your
  fellow guests. It's a great chance to meet new business contacts and 
 expand your network.\nCOST: £10 payable on the door, includes a full 
 breakfast. Demand for places means that booking is essential!\nBOOK HE
 RE: To book your place as a guest, please email tony.lyons@brxnet.co.u
 k or call Tony on 01306 711552\nMAP\nVENUE\n--------------------------
 ------------\nThis event was posted by NiS Member Michael Harlow\n\nFo
 r more information visit https://networkinginsurrey.co.uk/events/brx-v
 isitors-day-breakfast
DTSTART;TZID=Europe/London:20100715T070000
DTEND;TZID=Europe/London:20100715T090000
CATEGORIES:breakfast, dorking, brx, business_networking
LOCATION:The White Horse RH4 1BE
WEBSITE:http://www.brxnet.co.uk/dorking/index.html
URL:http://www.brxnet.co.uk/dorking/index.html
CONTACT:01306 711552 Tony Lyons
ORGANIZER:Tony Lyons
ATTACH;FMTTYPE="image/jpeg":http://storage.ning.com/topology/rest/1.0/
 file/get/2591385915?profile=original
END:VEVENT
END:VCALENDAR
