BEGIN:VCALENDAR
PRODID:NingEventWidget-v1
VERSION:2.0
METHOD:PUBLISH
BEGIN:VTIMEZONE
TZID:Europe/London
X-LIC-LOCATION:Europe/London
BEGIN:DAYLIGHT
TZOFFSETFROM:+0000
TZOFFSETTO:+0100
TZNAME:BST
DTSTART:19700329T010000
RRULE:FREQ=YEARLY;BYMONTH=3;BYDAY=-1SU
END:DAYLIGHT
BEGIN:STANDARD
TZOFFSETFROM:+0100
TZOFFSETTO:+0000
TZNAME:GMT
DTSTART:19701025T020000
RRULE:FREQ=YEARLY;BYMONTH=10;BYDAY=-1SU
END:STANDARD
END:VTIMEZONE
BEGIN:VEVENT
UID:4626108:Event:95593
DTSTAMP:20260422T232454Z
SUMMARY:LAUNCH EVENT: Camberley Connections Breakfast, Camberley
DESCRIPTION:Camberley Connections at Pine Ridge Golf Club\r\n\r\nConne
 ctSurrey is coming to Camberley - this will be our 8th group!\r\nAt Co
 nnect Surrey, we’re passionate about networking … it is the easies
 t, most effective way to find new business, it really is, so come and 
 see for yourselves!\r\nWe launched Farnham Connections in October whic
 h is proving to be a big success with some fantastic local businesses 
 attending. Your organisers for this group are Sally Castro Gouveia and
  the one and only Paul Webster!\r\nCome and join us for the launch on 
 THURSDAY 1ST FEBRUARY. Camberley Connections will be a fortnightly bre
 akfast meeting,arrival 8am for 8:30am start and will finish around 10a
 m.  \r\n Format:\r\n\r\n60 Second Round\r\n10 Minute Open Networking
  \r\n10 Minute Member Presentation\r\nWrap Up/Testimonial Round \r\n
 \r\nWhy should you come and join us?\r\n\r\nWe run professional meetin
 gs \r\nOur groups are always fun and friendly\r\nWe are not just busi
 nesses acquaintances, you really become good friends\r\nWe have busine
 sses that REALLY DO want to work with each other. Therefore lots of ge
 nuine referrals passed amongst each other and all groups.\r\n\r\nWhat 
 are we looking for?\r\n\r\nBusinesses that are looking for more leads\
 r\nBusinesses that would like to be a part of regular local network me
 etings\r\nOne man bands that work from home who are looking for a loca
 l support network\r\nBusinesses that want to join a fun and friendly n
 etwork group\r\n\r\nIf this sounds like something you would like to be
  a part of we would LOVE you to come and join us for the launch ...AND
  if you book online for the launch meeting the cost will be £20 (usu
 ally £15) and then you get the next two meetings for FREE....what mo
 re could you ask for?\r\nSo if you still haven't quite found the right
  networking group for you, please come along and try us out.  \r\nBo
 th Paul Webster and I look forward to seeing you all on the 1st Februa
 ry and share this with any local businesses you think would benefit f
 rom coming along....the more the merrier!\r\nIn the meantime Sally and
  Paul at ConnectSurrey wish you a very successful 2018, and hope you c
 an be a part of it with us!\r\nCOST: £20 including breakfast (inclu
 des 2 more free meetings!)\r\nBOOKING: Please CLICK HERE to book\r\nMA
 P \n\nFor more information visit https://networkinginsurrey.co.uk/even
 ts/breakfast-launch-camberley-connections
DTSTART;TZID=Europe/London:20180201T083000
DTEND;TZID=Europe/London:20180201T103000
CATEGORIES:breakfast, camberley
LOCATION:Pine Ridge Golf Club GU16 9NX
WEBSITE:
URL:
CONTACT:07525 738758
ORGANIZER;CN="Sally Castro Gouveia":https://networkinginsurrey.co.uk/p
 rofile/SallyCastroGouveia
ATTACH;FMTTYPE="image/jpeg":http://storage.ning.com/topology/rest/1.0/
 file/get/2591469552?profile=original
ATTENDEE;ROLE=REQ-PARTICIPANT;PARTSTAT=ACCEPTED;RSVP=TRUE;CN="Sally Ca
 stro Gouveia":https://networkinginsurrey.co.uk/profile/SallyCastroGouv
 eia
ATTENDEE;ROLE=REQ-PARTICIPANT;PARTSTAT=ACCEPTED;RSVP=TRUE;CN="Sue Bann
 ister":https://networkinginsurrey.co.uk/profile/SueBannister
END:VEVENT
END:VCALENDAR
