BEGIN:VCALENDAR
PRODID:NingEventWidget-v1
VERSION:2.0
METHOD:PUBLISH
BEGIN:VTIMEZONE
TZID:Europe/London
X-LIC-LOCATION:Europe/London
BEGIN:DAYLIGHT
TZOFFSETFROM:+0000
TZOFFSETTO:+0100
TZNAME:BST
DTSTART:19700329T010000
RRULE:FREQ=YEARLY;BYMONTH=3;BYDAY=-1SU
END:DAYLIGHT
BEGIN:STANDARD
TZOFFSETFROM:+0100
TZOFFSETTO:+0000
TZNAME:GMT
DTSTART:19701025T020000
RRULE:FREQ=YEARLY;BYMONTH=10;BYDAY=-1SU
END:STANDARD
END:VTIMEZONE
BEGIN:VEVENT
UID:4626108:Event:74653
DTSTAMP:20260426T003855Z
SUMMARY:LAUNCH EVENT: Haslemere Connections Breakfast
DESCRIPTION:Breakfast at Lythe Hill Hotel - Launch of Haslemere Connec
 tions\n\nCome and join us for the launch of Haslemere Connections!\nRe
 gister today for our inaugural meeting, enjoy a delicious cooked Engli
 sh breaklfast and do some productive networking with other local  bus
 iness people in a relaxed format - members of this group will also be 
 able to attend other Connections meetings throughout Surrey.\nPlease a
 rrive for 8am to book in and meeting will start promptly at 8:30am.We 
 look forward to welcoming you there. \nSee you all in a few weeks tim
 e!\nCOST: £12 meeting fee - includes a cooked breakfast.\nBOOKING: 
 Please CLICK HERE to register your place for free -  pay for breakfa
 st on arrival\nMAP\n\nFor more information visit https://networkingins
 urrey.co.uk/events/breakfast-at-lythe-hotel-launch-of-haslemere-connec
 tions
DTSTART;TZID=Europe/London:20151104T083000
DTEND;TZID=Europe/London:20151104T100000
CATEGORIES:networking
LOCATION:Lythe Hill Hotel
WEBSITE:http://www.eventbrite.co.uk/e/haslemere-connections-launch-mee
 ting-tickets-18071632740?aff=es2
URL:http://www.eventbrite.co.uk/e/haslemere-connections-launch-meeting
 -tickets-18071632740?aff=es2
CONTACT:07525 738758
ORGANIZER;CN="Sally Castro Gouveia":https://networkinginsurrey.co.uk/p
 rofile/SallyCastroGouveia
ATTACH;FMTTYPE="image/jpeg":http://storage.ning.com/topology/rest/1.0/
 file/get/2591446586?profile=original
ATTENDEE;ROLE=REQ-PARTICIPANT;PARTSTAT=ACCEPTED;RSVP=TRUE;CN="Sally Ca
 stro Gouveia":https://networkinginsurrey.co.uk/profile/SallyCastroGouv
 eia
END:VEVENT
END:VCALENDAR
