BEGIN:VCALENDAR
PRODID:NingEventWidget-v1
VERSION:2.0
METHOD:PUBLISH
BEGIN:VTIMEZONE
TZID:Europe/London
X-LIC-LOCATION:Europe/London
BEGIN:DAYLIGHT
TZOFFSETFROM:+0000
TZOFFSETTO:+0100
TZNAME:BST
DTSTART:19700329T010000
RRULE:FREQ=YEARLY;BYMONTH=3;BYDAY=-1SU
END:DAYLIGHT
BEGIN:STANDARD
TZOFFSETFROM:+0100
TZOFFSETTO:+0000
TZNAME:GMT
DTSTART:19701025T020000
RRULE:FREQ=YEARLY;BYMONTH=10;BYDAY=-1SU
END:STANDARD
END:VTIMEZONE
BEGIN:VEVENT
UID:4626108:Event:93538
DTSTAMP:20260423T155215Z
SUMMARY:BRAVO Networking Festive Curry and Quiz Evening
DESCRIPTION:BRAVO Curry & Quiz at The Red Lion\r\n\r\nJoin us for some
  informal and fun networking for just £10.  For those that don't lik
 e curry there will be an alternative option, so if that's you, please 
 contact me and let me know (07889 30446). \r\nMarc Jones the owner of
  the Time Well Spent pubs and restaurants group is our quiz master and
  he is brilliant.  Lots of prizes to be won. \r\nBook on as an indiv
 idual and you'll be joining others to make a team or you can book a co
 uple of places or more and be on the same team.  \r\nSee you there f
 or what promises to be a fabulous fun evening - and please feel free t
 o wear something festive! \r\nCOST: £10 including the food - buy you
 r own drinks at the bar...\r\nBOOKING: Please CLICK HERE to book\r\nM
 AP\n\nFor more information visit https://networkinginsurrey.co.uk/even
 ts/bravo-networking-festive-curry-and-quiz-night
DTSTART;TZID=Europe/London:20171204T180000
DTEND;TZID=Europe/London:20171204T213000
CATEGORIES:business, networking, quiz, curry, festive, fun
LOCATION:The Red Lion RH3 7DS
WEBSITE:http://redlion.timewellspent.co.uk/
URL:http://redlion.timewellspent.co.uk/
CONTACT:07889 304460
ORGANIZER;CN="Louise Camby":https://networkinginsurrey.co.uk/profile/L
 ouiseCamby
ATTACH;FMTTYPE="image/jpeg":http://storage.ning.com/topology/rest/1.0/
 file/get/2591466976?profile=original
ATTENDEE;ROLE=REQ-PARTICIPANT;PARTSTAT=ACCEPTED;RSVP=TRUE;CN="Louise C
 amby":https://networkinginsurrey.co.uk/profile/LouiseCamby
END:VEVENT
END:VCALENDAR
