BEGIN:VCALENDAR
PRODID:NingEventWidget-v1
VERSION:2.0
METHOD:PUBLISH
BEGIN:VTIMEZONE
TZID:Europe/London
X-LIC-LOCATION:Europe/London
BEGIN:DAYLIGHT
TZOFFSETFROM:+0000
TZOFFSETTO:+0100
TZNAME:BST
DTSTART:19700329T010000
RRULE:FREQ=YEARLY;BYMONTH=3;BYDAY=-1SU
END:DAYLIGHT
BEGIN:STANDARD
TZOFFSETFROM:+0100
TZOFFSETTO:+0000
TZNAME:GMT
DTSTART:19701025T020000
RRULE:FREQ=YEARLY;BYMONTH=10;BYDAY=-1SU
END:STANDARD
END:VTIMEZONE
BEGIN:VEVENT
UID:4626108:Event:78282
DTSTAMP:20260425T120442Z
SUMMARY:BRAVO Networking Evening, Reigate
DESCRIPTION:BRAVO Networking at the Reigate Manor \nStructured evenin
 g of networking with welcome drink, curry and comprehensive delegate l
 ist to help the all important following up process.   The evening com
 prises of a mix of open networking and structure spotlight sessions en
 suring you maximise your networking time.\nOur networking events featu
 re a variety of networking techniques:\n\nSpotlight – an opportunity
  to tell a small group of delegates about your business\nOpen – ming
 le and chat with others at your leisure\nComprehensive delegate list -
  helping you to follow up productively.\nGiving and Receiving Voucher 
 - effective way of starting new client relationships\n\n For more inf
 ormation and to about previous events and to book tickets please visit
  www.BRAVOBizEvents.co.uk \nCOST: £25 \nBOOKING: Please CLICK HERE
  now to book your place \nMAP\n \n\nFor more information visit htt
 ps://networkinginsurrey.co.uk/events/bravo-networking-evening-reigate
DTSTART;TZID=Europe/London:20160519T170000
DTEND;TZID=Europe/London:20160519T213000
CATEGORIES:business, networking, connections
LOCATION:Reigate Manor Hotel RH2 9PF
WEBSITE:http://www.google.co.uk/maps/place/BEST+WESTERN+Reigate+Manor+
 Hotel/@51.24954,-0.20268,15z/data=!4m2!3m1!1s0x0:0xed1c9c355bfd0db2?sa
 =X&ved=0ahUKEwiLvsvBqPfLAhVCVhQKHf-BBg4Q_BIImQEwCg
URL:http://www.google.co.uk/maps/place/BEST+WESTERN+Reigate+Manor+Hote
 l/@51.24954,-0.20268,15z/data=!4m2!3m1!1s0x0:0xed1c9c355bfd0db2?sa=X&v
 ed=0ahUKEwiLvsvBqPfLAhVCVhQKHf-BBg4Q_BIImQEwCg
CONTACT:07889 304460
ORGANIZER;CN="Louise Camby":https://networkinginsurrey.co.uk/profile/L
 ouiseCamby
ATTACH;FMTTYPE="image/jpeg":http://storage.ning.com/topology/rest/1.0/
 file/get/1406115434?profile=original
ATTENDEE;ROLE=REQ-PARTICIPANT;PARTSTAT=ACCEPTED;RSVP=TRUE;CN="Louise C
 amby":https://networkinginsurrey.co.uk/profile/LouiseCamby
END:VEVENT
END:VCALENDAR
