BEGIN:VCALENDAR
PRODID:NingEventWidget-v1
VERSION:2.0
METHOD:PUBLISH
BEGIN:VTIMEZONE
TZID:Europe/London
X-LIC-LOCATION:Europe/London
BEGIN:DAYLIGHT
TZOFFSETFROM:+0000
TZOFFSETTO:+0100
TZNAME:BST
DTSTART:19700329T010000
RRULE:FREQ=YEARLY;BYMONTH=3;BYDAY=-1SU
END:DAYLIGHT
BEGIN:STANDARD
TZOFFSETFROM:+0100
TZOFFSETTO:+0000
TZNAME:GMT
DTSTART:19701025T020000
RRULE:FREQ=YEARLY;BYMONTH=10;BYDAY=-1SU
END:STANDARD
END:VTIMEZONE
BEGIN:VEVENT
UID:4626108:Event:90648
DTSTAMP:20260423T184044Z
SUMMARY:BRAVO Networking BBQ & Quiz event, Coulsdon
DESCRIPTION:BRAVO BBQ & Quiz networking evening at The Well House Inn 
 in Mugswell, Coulsdon.\nJoin us for a fun, informal, open networking s
 ession with Barbeque followed by a quiz and more networking. It's a ch
 ance to meet local business people whilst having fun a\nDo bring lots 
 of business cards!\nCOST: £12.00  -  booking is essential for cater
 ing purposes please\nBOOKING: Please CLICK HERE to book your place\nM
 AP\n\nFor more information visit https://networkinginsurrey.co.uk/even
 ts/bravo-networking-bbq-quiz-event-coulsdon
DTSTART;TZID=Europe/London:20170824T180000
DTEND;TZID=Europe/London:20170824T213000
CATEGORIES:business, networking, quiz, bbq
LOCATION:The Well House Inn, Mugswell, Coulsdon
WEBSITE:https://www.google.co.uk/maps/dir/''/The+well+house+inn+mugswe
 ll/@51.2825801,-0.2664416,12z/data=!3m1!4b1!4m8!4m7!1m0!1m5!1m1!1s0x48
 75e34840bbb485:0x9d00e0c82bd90a45!2m2!1d-0.196402!2d51.282601
URL:https://www.google.co.uk/maps/dir/''/The+well+house+inn+mugswell/@
 51.2825801,-0.2664416,12z/data=!3m1!4b1!4m8!4m7!1m0!1m5!1m1!1s0x4875e3
 4840bbb485:0x9d00e0c82bd90a45!2m2!1d-0.196402!2d51.282601
CONTACT:07889 304460
ORGANIZER;CN="Louise Camby":https://networkinginsurrey.co.uk/profile/L
 ouiseCamby
ATTACH;FMTTYPE="image/jpeg":http://storage.ning.com/topology/rest/1.0/
 file/get/1406115434?profile=original
ATTENDEE;ROLE=REQ-PARTICIPANT;PARTSTAT=ACCEPTED;RSVP=TRUE;CN="Louise C
 amby":https://networkinginsurrey.co.uk/profile/LouiseCamby
END:VEVENT
END:VCALENDAR
