BEGIN:VCALENDAR
PRODID:NingEventWidget-v1
VERSION:2.0
METHOD:PUBLISH
BEGIN:VTIMEZONE
TZID:Europe/London
X-LIC-LOCATION:Europe/London
BEGIN:DAYLIGHT
TZOFFSETFROM:+0000
TZOFFSETTO:+0100
TZNAME:BST
DTSTART:19700329T010000
RRULE:FREQ=YEARLY;BYMONTH=3;BYDAY=-1SU
END:DAYLIGHT
BEGIN:STANDARD
TZOFFSETFROM:+0100
TZOFFSETTO:+0000
TZNAME:GMT
DTSTART:19701025T020000
RRULE:FREQ=YEARLY;BYMONTH=10;BYDAY=-1SU
END:STANDARD
END:VTIMEZONE
BEGIN:VEVENT
UID:4626108:Event:104095
DTSTAMP:20260424T022132Z
SUMMARY:BRAVO Networking Morning, Betchworth
DESCRIPTION:FREE BRAVO Networking Morning at the newly refurbished Red
  Lion \r\n\r\nOur next BRAVO business networking event will be held at
  the recently refurbished Red Lion and Cellar Room, Betchworth, Surre
 y.  Come and join us for a relaxed, open networking session at this t
 rue English Pub with a twist!   Date/Time: Tuesday 30th April from 10
 am to 12pm  Venue: Red Lion & Cellar Room, Old Road, Betchworth RH3
  7DS\r\nHope to see you there!\r\nCOST: FREE\r\nBOOKING: Please CLICK
  HERE to book your free place\r\nMAP\n\nFor more information visit ht
 tps://networkinginsurrey.co.uk/events/bravo-networking-at-newly-refurb
 ished-red-lion-betchworth
DTSTART;TZID=Europe/London:20190430T100000
DTEND;TZID=Europe/London:20190430T120000
CATEGORIES:business, networking
LOCATION:Red Lion and Cellar Rooms RH3 7DS
WEBSITE:https://www.google.com/maps/dir/51.3368064,-0.0114688/Red+Lion
 ,+Old+Rd,+Buckland,+Betchworth+RH3+7DS/@51.2980946,-0.2712923,11z/data
 =!3m1!4b1!4m9!4m8!1m1!4e1!1m5!1m1!1s0x4875e43dc5fd59b9:0xc232b8942ce4d
 92f!2m2!1d-0.263154!2d51.2400195
URL:https://www.google.com/maps/dir/51.3368064,-0.0114688/Red+Lion,+Ol
 d+Rd,+Buckland,+Betchworth+RH3+7DS/@51.2980946,-0.2712923,11z/data=!3m
 1!4b1!4m9!4m8!1m1!4e1!1m5!1m1!1s0x4875e43dc5fd59b9:0xc232b8942ce4d92f!
 2m2!1d-0.263154!2d51.2400195
CONTACT:07889304460
ORGANIZER;CN="Louise Camby":https://networkinginsurrey.co.uk/profile/L
 ouiseCamby
ATTACH;FMTTYPE="image/jpeg":https://storage.ning.com/topology/rest/1.0
 /file/get/1406115434?profile=original
ATTENDEE;ROLE=REQ-PARTICIPANT;PARTSTAT=ACCEPTED;RSVP=TRUE;CN="Louise C
 amby":https://networkinginsurrey.co.uk/profile/LouiseCamby
END:VEVENT
END:VCALENDAR
