BEGIN:VCALENDAR
PRODID:NingEventWidget-v1
VERSION:2.0
METHOD:PUBLISH
BEGIN:VTIMEZONE
TZID:Europe/London
X-LIC-LOCATION:Europe/London
BEGIN:DAYLIGHT
TZOFFSETFROM:+0000
TZOFFSETTO:+0100
TZNAME:BST
DTSTART:19700329T010000
RRULE:FREQ=YEARLY;BYMONTH=3;BYDAY=-1SU
END:DAYLIGHT
BEGIN:STANDARD
TZOFFSETFROM:+0100
TZOFFSETTO:+0000
TZNAME:GMT
DTSTART:19701025T020000
RRULE:FREQ=YEARLY;BYMONTH=10;BYDAY=-1SU
END:STANDARD
END:VTIMEZONE
BEGIN:VEVENT
UID:4626108:Event:73927
DTSTAMP:20260426T031358Z
SUMMARY:BRAVO Networking AFTERNOON, Dorking
DESCRIPTION:BRAVO Networking at Denbies\n\nAre you fed up with busines
 s networking events that are all about selling? Well we are â€“ so weâ
 €™ve done something about it!\nThe highly successful, structured netwo
 rking environment that BRAVO events have become known for now supports
  our Giving and Receiving theme â€“ and that means you could come away
  with three potential clients!  And if thatâ€™s not enough, we will be
  holding a wine tasting experience with nibbles and provide a comprehe
 nsive delegate list helping you to network more efficiently throughout
  the event and also aid you with the all important following up proces
 s.  BRAVO networking events include three styles of networking:\n\nOpe
 n â€“ mingle and chat to other delegates at your leisure (and enjoy th
 e curry!)\nSpotlight â€“ a 60-second opportunity to tell a small group
  of delegates about your business with Q&A\nExclusive â€“ focussed, 10
 -minute mini-meetings on a personal one-to-one basis\n\nGiving and Rec
 eiving is based on the principle hat â€˜givingâ€™ is a much more effec
 tive way of starting a new client relationship than the usual, in-your
 -face, â€˜sell, sell, sell!â€™ method.\nItâ€™s simple: just download t
 he voucher template on our website, fill in your details and the offer
  youâ€™d like to make against your product or services, bring three co
 pies with you to hand in at our registration desk on the evening and t
 hen start networking! (For further details, please visit our website).
 \nRegistration from 13:00 for 14:15 start -Â Event finishes at 17:30Â 
 Click hereÂ to see our previous event video.\nNumbers are limited so p
 lease book early to avoid disappointment. \nCOST : Â£30 per delegate -
  **** Early-bird offers: Up to 31st July 2015:Â Â Â£20Â \nBOOKING: Ple
 ase CLICK HERE to book your place\nMAP & Directions \n\n\n\nFor more i
 nformation visit https://networkinginsurrey.co.uk/events/bravo-network
 ing-afternoon-dorking
DTSTART;TZID=Europe/London:20150909T140000
DTEND;TZID=Europe/London:20150909T173000
CATEGORIES:business, networking
LOCATION:Denbies, Dorking, Surrey
WEBSITE:https://www.google.co.uk/maps/place/Denbies,+Dorking,+Surrey+R
 H5+6SP/@51.241549,-0.355444,17z/data=!3m1!4b1!4m2!3m1!1s0x4875e76a0053
 80db:0x51e3b0bfcf0d74b2
URL:https://www.google.co.uk/maps/place/Denbies,+Dorking,+Surrey+RH5+6
 SP/@51.241549,-0.355444,17z/data=!3m1!4b1!4m2!3m1!1s0x4875e76a005380db
 :0x51e3b0bfcf0d74b2
CONTACT:07889 304460
ORGANIZER;CN="Louise Camby":https://networkinginsurrey.co.uk/profile/L
 ouiseCamby
ATTACH;FMTTYPE="image/jpeg":http://storage.ning.com/topology/rest/1.0/
 file/get/2591433476?profile=original
ATTENDEE;ROLE=REQ-PARTICIPANT;PARTSTAT=ACCEPTED;RSVP=TRUE;CN="Louise C
 amby":https://networkinginsurrey.co.uk/profile/LouiseCamby
END:VEVENT
END:VCALENDAR
