BEGIN:VCALENDAR
PRODID:NingEventWidget-v1
VERSION:2.0
METHOD:PUBLISH
BEGIN:VTIMEZONE
TZID:Europe/London
X-LIC-LOCATION:Europe/London
BEGIN:DAYLIGHT
TZOFFSETFROM:+0000
TZOFFSETTO:+0100
TZNAME:BST
DTSTART:19700329T010000
RRULE:FREQ=YEARLY;BYMONTH=3;BYDAY=-1SU
END:DAYLIGHT
BEGIN:STANDARD
TZOFFSETFROM:+0100
TZOFFSETTO:+0000
TZNAME:GMT
DTSTART:19701025T020000
RRULE:FREQ=YEARLY;BYMONTH=10;BYDAY=-1SU
END:STANDARD
END:VTIMEZONE
BEGIN:VEVENT
UID:4626108:Event:74955
DTSTAMP:20260426T043911Z
SUMMARY:BRAVO Networking Afternoon/Evening, Crawley
DESCRIPTION:BRAVO Networking at Vines of Gatwick BMW Showroom\n\nCome 
 along and join the 45 delegates who are already booked from Surrey and
  Sussex.\nAre you fed up with business networking events that are all 
 about selling? Well we are â€“ so weâ€™ve done something about it!\nTh
 e highly successful, structured networking environment that BRAVO even
 ts have become known for now supports our Giving and Receiving theme â
 €“ and that means you could come away with three potential clients!  A
 nd if thatâ€™s not enough, we will be providing food, a welcome drink,
  teas and coffees, desserts, guest speakers and a comprehensive delega
 te list helping you to network more efficiently throughout the event a
 nd also aid you with the all important following up process.  BRAVO ne
 tworking events include three styles of networking:\n\nOpen â€“ mingle
  and chat to other delegates at your leisure (and enjoy the curry!)\nS
 potlight â€“ a 60-second opportunity to tell a small group of delegate
 s about your business with Q&A\nExclusive â€“ focussed, 10-minute mini
 -meetings on a personal one-to-one basis\n\nGiving and Receiving is ba
 sed on the principle hat â€˜givingâ€™ is a much more effective way of 
 starting a new client relationship than the usual, in-your-face, â€˜se
 ll, sell, sell!â€™ method.\nItâ€™s simple: just download the voucher t
 emplate on our website, fill in your details and the offer youâ€™d lik
 e to make against your product or services, bring three copies with yo
 u to hand in at our registration desk on the evening and then start ne
 tworking! (For further details, please visit our website).\nRegistrati
 on from 17:00 for 18:00 start -Â Event finishes at 21:30Â Click hereÂ 
 to see our previous event video.\nNumbers are limited so please book e
 arly to avoid disappointment. \nCOST : Â£30 per delegate\nBOOKING: Ple
 ase CLICK HERE to book your place\nMAP & Directions \n\n\n\nFor more i
 nformation visit https://networkinginsurrey.co.uk/events/bravo-network
 ing-afternoon-dorking-1
DTSTART;TZID=Europe/London:20151022T170000
DTEND;TZID=Europe/London:20151022T213000
CATEGORIES:business, networking
LOCATION:Vines of Gatwick, Crawley, Sussex
WEBSITE:https://www.google.co.uk/maps/dir/''/vines+of+gatwick+map/@51.
 1152187,-0.2391157,12z/data=!3m1!4b1!4m8!4m7!1m0!1m5!1m1!1s0x4875f1eaf
 6be8d3f:0x33873b19ea36150e!2m2!1d-0.1652993!2d51.1152419
URL:https://www.google.co.uk/maps/dir/''/vines+of+gatwick+map/@51.1152
 187,-0.2391157,12z/data=!3m1!4b1!4m8!4m7!1m0!1m5!1m1!1s0x4875f1eaf6be8
 d3f:0x33873b19ea36150e!2m2!1d-0.1652993!2d51.1152419
CONTACT:07889 304460
ORGANIZER;CN="Louise Camby":https://networkinginsurrey.co.uk/profile/L
 ouiseCamby
ATTACH;FMTTYPE="image/jpeg":http://storage.ning.com/topology/rest/1.0/
 file/get/1406115434?profile=original
ATTENDEE;ROLE=REQ-PARTICIPANT;PARTSTAT=ACCEPTED;RSVP=TRUE;CN="Louise C
 amby":https://networkinginsurrey.co.uk/profile/LouiseCamby
END:VEVENT
END:VCALENDAR
