BEGIN:VCALENDAR
PRODID:NingEventWidget-v1
VERSION:2.0
METHOD:PUBLISH
BEGIN:VTIMEZONE
TZID:Europe/London
X-LIC-LOCATION:Europe/London
BEGIN:DAYLIGHT
TZOFFSETFROM:+0000
TZOFFSETTO:+0100
TZNAME:BST
DTSTART:19700329T010000
RRULE:FREQ=YEARLY;BYMONTH=3;BYDAY=-1SU
END:DAYLIGHT
BEGIN:STANDARD
TZOFFSETFROM:+0100
TZOFFSETTO:+0000
TZNAME:GMT
DTSTART:19701025T020000
RRULE:FREQ=YEARLY;BYMONTH=10;BYDAY=-1SU
END:STANDARD
END:VTIMEZONE
BEGIN:VEVENT
UID:4626108:Event:131878
DTSTAMP:20260423T221241Z
SUMMARY:Brass and Bells Concert Evening, Sandhurst
DESCRIPTION:\r\nCamberley and District Silver Band will be joined by t
 he St. Michael’s Belles hand-bell group for an evening of Brass and 
 Bells.\r\nThe evening concert will feature music from both the band an
 d the Belles, as well as some opportunities for you to join in!\r\nThe
  band has been playing continuously in this area since 1960, and we’
 ll be delving into our extensive music collection to bring you a wide 
 variety of brass band music; from the traditional elegance of military
  marches and classical waltzes, to familiar arrangements of modern pop
 ular music and tunes for an audience of all ages to enjoy.\r\nThe conc
 ert will be held at St. Michael’s Pastoral Centre, Sandhurst, GU47 8
 HN from 7:30pm, and will feature an interval including refreshments.\r
 \nCOST: Tickets for the concert cost £5 each, available on the door\r
 \nBOOKING: If you would like to reserve tickets in advance, please ema
 il tickets@camberleyband.org.uk or call 07858447463\r\nMAP\n\nFor more
  information visit https://networkinginsurrey.co.uk/events/brass-and-b
 ells-concert
DTSTART;TZID=Europe/London:20190518T193000
DTEND;TZID=Europe/London:20190518T213000
CATEGORIES:music, brass, band, bells, concert
LOCATION:St Michael’s Pastoral Centre, St Michaels Church, GU47 8HN
WEBSITE:https://www.google.com/maps/place/St+Michael&amp;#039;s+Pastor
 al+Centre/@51.3494906,-0.8167844,17z/data=!3m1!4b1!4m5!3m4!1s0x487681d
 bc2b8f4c7:0x93842746def44548!8m2!3d51.3494906!4d-0.8145957
URL:https://www.google.com/maps/place/St+Michael&amp;#039;s+Pastoral+C
 entre/@51.3494906,-0.8167844,17z/data=!3m1!4b1!4m5!3m4!1s0x487681dbc2b
 8f4c7:0x93842746def44548!8m2!3d51.3494906!4d-0.8145957
CONTACT:07858447463
ORGANIZER:Camberley and District Silver Band
ATTACH;FMTTYPE="image/jpeg":https://storage.ning.com/topology/rest/1.0
 /file/get/2266072408?profile=original
ATTENDEE;ROLE=REQ-PARTICIPANT;PARTSTAT=ACCEPTED;RSVP=TRUE;CN="Wenni Al
 exander":https://networkinginsurrey.co.uk/profile/WenniAlexander616
END:VEVENT
END:VCALENDAR
