BEGIN:VCALENDAR
PRODID:NingEventWidget-v1
VERSION:2.0
METHOD:PUBLISH
BEGIN:VTIMEZONE
TZID:Europe/London
X-LIC-LOCATION:Europe/London
BEGIN:DAYLIGHT
TZOFFSETFROM:+0000
TZOFFSETTO:+0100
TZNAME:BST
DTSTART:19700329T010000
RRULE:FREQ=YEARLY;BYMONTH=3;BYDAY=-1SU
END:DAYLIGHT
BEGIN:STANDARD
TZOFFSETFROM:+0100
TZOFFSETTO:+0000
TZNAME:GMT
DTSTART:19701025T020000
RRULE:FREQ=YEARLY;BYMONTH=10;BYDAY=-1SU
END:STANDARD
END:VTIMEZONE
BEGIN:VEVENT
UID:4626108:Event:6658
DTSTAMP:20260422T051030Z
SUMMARY:Brainstorming Brunch, Epsom
DESCRIPTION:Brainstorming Brunch, Epsom\nTo escape from 'work at home'
  isolation and give you that “office feeling” when everyone meets 
 in the boardroom to discuss the next stage of the business, we present
  “The Brainstorming Club”.\nUp to 6 small business owners can bra
 instorm, clarify business goals and vision, and get creative in an inf
 ormal yet professional meetup all facilitated by a qualified coach.\nP
 lease book in advance as space is limited and you will receive a prepa
 ration questionnaire before the event to help you focus on what you wo
 uld like to gain from the brainstorming session.\nCOST: £8 session fe
 e (payable on the day), buy your own food and drinks as required.\nP
 LEASE CLICK HERE to contact Peggy Poyser for more details and to boo
 k your place\nMAP\n__________________\nThe Brainstorming Club is run b
 y NiS Member Peggy Poyser who also runs business development workshops
 . \n\nFor more information visit https://networkinginsurrey.co.uk/eve
 nts/brainstorming-brunch-epsom
DTSTART;TZID=Europe/London:20110126T100000
DTEND;TZID=Europe/London:20110126T120000
CATEGORIES:brainstorming, brunch, epsom, business_networking_surrey
LOCATION:The Slug and Lettuce KT19 8AG
WEBSITE:http://www.slugandlettuce.co.uk/epsom/
URL:http://www.slugandlettuce.co.uk/epsom/
CONTACT:07789 222710
ORGANIZER;CN="Peggy Poyser":https://networkinginsurrey.co.uk/profile/P
 eggyPoyser
ATTACH;FMTTYPE="image/jpeg":http://storage.ning.com/topology/rest/1.0/
 file/get/2591399921?profile=original
ATTENDEE;ROLE=REQ-PARTICIPANT;PARTSTAT=ACCEPTED;RSVP=TRUE;CN=JOJO:http
 s://networkinginsurrey.co.uk/profile/JOJO
ATTENDEE;ROLE=REQ-PARTICIPANT;PARTSTAT=ACCEPTED;RSVP=TRUE;CN="Yvonne S
 tone":https://networkinginsurrey.co.uk/profile/YvonneStone
ATTENDEE;ROLE=REQ-PARTICIPANT;PARTSTAT=ACCEPTED;RSVP=TRUE;CN="Peggy Po
 yser":https://networkinginsurrey.co.uk/profile/PeggyPoyser
END:VEVENT
END:VCALENDAR
