BEGIN:VCALENDAR
PRODID:NingEventWidget-v1
VERSION:2.0
METHOD:PUBLISH
BEGIN:VTIMEZONE
TZID:Europe/London
X-LIC-LOCATION:Europe/London
BEGIN:DAYLIGHT
TZOFFSETFROM:+0000
TZOFFSETTO:+0100
TZNAME:BST
DTSTART:19700329T010000
RRULE:FREQ=YEARLY;BYMONTH=3;BYDAY=-1SU
END:DAYLIGHT
BEGIN:STANDARD
TZOFFSETFROM:+0100
TZOFFSETTO:+0000
TZNAME:GMT
DTSTART:19701025T020000
RRULE:FREQ=YEARLY;BYMONTH=10;BYDAY=-1SU
END:STANDARD
END:VTIMEZONE
BEGIN:VEVENT
UID:4626108:Event:10748
DTSTAMP:20260422T201112Z
SUMMARY:Bowling & LaserQuest Charity Evening, Sutton
DESCRIPTION:Extreme Business Networking at Sutton Superbowl\n\nWe are 
 having a fun evening out on the 28th March in Sutton Superbowl for Las
 erQuest & Bowling - and we would love to see you there! \nCOST: £15
  if booked and paid online by Friday 25th March 2011 - includes a Gam
 e of Laser Quest and a Game of Bowling\n{£5 of each booking will go d
 irect to Marie Curie}\nCLICK HERE TO BOOK\nMAP\nVENUE\n---------------
 -------------------------\nTheo has been attending lots of different N
 etwork Business Groups over the last three years and understands the g
 reat benefit of them. He also feels that some can be too regimented, s
 erious and costly. and saw the opportunity to form a Fun Group which i
 s inexpensive without the committment to attend every week - and so 'E
 xtreme Business Networking' was born!\n﻿\n\nFor more information vis
 it https://networkinginsurrey.co.uk/events/bowling-laserquest-charity
DTSTART;TZID=Europe/London:20110328T184500
DTEND;TZID=Europe/London:20110328T210000
CATEGORIES:sutton, social
LOCATION:Sutton Superbowl SM1 1AT
WEBSITE:http://www.magictheo.com/content/extreme-business-networking-b
 ooking-form
URL:http://www.magictheo.com/content/extreme-business-networking-booki
 ng-form
CONTACT:
ORGANIZER:Theo The Magician
ATTACH;FMTTYPE="image/jpeg":http://storage.ning.com/topology/rest/1.0/
 file/get/2591391476?profile=original
ATTENDEE;ROLE=REQ-PARTICIPANT;PARTSTAT=ACCEPTED;RSVP=TRUE;CN="Sam Mill
 ard":https://networkinginsurrey.co.uk/profile/SamMillard
ATTENDEE;ROLE=REQ-PARTICIPANT;PARTSTAT=ACCEPTED;RSVP=TRUE;CN="Keith Gr
 over, NiS Founder":https://networkinginsurrey.co.uk/profile/KeithGrove
 r
END:VEVENT
END:VCALENDAR
