BEGIN:VCALENDAR
PRODID:NingEventWidget-v1
VERSION:2.0
METHOD:PUBLISH
BEGIN:VTIMEZONE
TZID:Europe/London
X-LIC-LOCATION:Europe/London
BEGIN:DAYLIGHT
TZOFFSETFROM:+0000
TZOFFSETTO:+0100
TZNAME:BST
DTSTART:19700329T010000
RRULE:FREQ=YEARLY;BYMONTH=3;BYDAY=-1SU
END:DAYLIGHT
BEGIN:STANDARD
TZOFFSETFROM:+0100
TZOFFSETTO:+0000
TZNAME:GMT
DTSTART:19701025T020000
RRULE:FREQ=YEARLY;BYMONTH=10;BYDAY=-1SU
END:STANDARD
END:VTIMEZONE
BEGIN:VEVENT
UID:4626108:Event:10758
DTSTAMP:20260422T144019Z
SUMMARY:BoB Club Breakfast, Weybridge
DESCRIPTION:Business over Breakfast at The Ship\n\nOur approach and cu
 lture is so different to the way many businesses have networked in Sur
 rey for the past 13 years. To see people enjoying the experience and s
 eeing value in what they are getting makes this new venture so pleasin
 g.\nOur fortnightly meetings provide the platform to network in a prof
 essionally structured environment that is relaxed and pressure free. E
 very member is given an opportunity to do a short business overview to
  the group and one member is given 10 minutes to carry out a more comp
 rehensive “Showcase” presentation about their business.\nWe work h
 ard to give our members more focus on the face to face networking and 
 we are also investing to make them more visible to potential customers
  on the internet. We actively encourage our members to use the BoB Clu
 b network by visiting other groups and to help get a better return on 
 investment.\nThere is NO PRESSURE on members or visitors to give refer
 rals at every meeting as this only encourages people to give worthless
  referrals that are not worth pursuing. Our members are more intereste
 d in Quality NOT Quantity - but don’t just take our word for it, att
 end as a visitor and experience BoB Clubs for yourself.\nCOST: £10 me
 eting fee including breakfast\nTO BOOK: Please contact NiS Member Kare
 n Sutton from Limelight Marketing karen@limelight-marketing.co.uk to 
 come as a visitor to the Weybridge Club. \nMAP\nCLICK HERE to visit o
 ur website for more information\nThere are clubs being set up in Guil
 dford, Kingston upon Thames, Weybridge, Carshalton, Farnham, Cobham a
 nd Woking.\n-----------------------------------\nBeing a member of BoB
  Clubs helps you find new customers easier and quicker than your compe
 tition. Securing your exclusive place at BoB Clubs means you have a be
 tter chance of gaining quality referrals as you have members within th
 e club promoting and recommending your products and services by word-o
 f-mouth. Another benefit is you have the opportunity to improve your p
 resentation and communication skills as well as boosting your confiden
 ce.\n\nFor more information visit https://networkinginsurrey.co.uk/eve
 nts/bob-club-breakfast-weybridge
DTSTART;TZID=Europe/London:20110324T063000
DTEND;TZID=Europe/London:20110324T083000
CATEGORIES:business_over_breakfast, business_networking_surrey, bob, w
 eybridge
LOCATION:The Ship Hotel KT13 8BQ
WEBSITE:http://maps.google.com/maps?f=q&source=s_q&hl=en&geocode=&q=We
 ybridge+KT13+8BQ,+United+Kingdom&aq=0&sll=37.0625,-95.677068&sspn=27.2
 84961,86.572266&ie=UTF8&hq=&hnear=Weybridge+KT13+8BQ,+United+Kingdom&z
 =15
URL:http://maps.google.com/maps?f=q&source=s_q&hl=en&geocode=&q=Weybri
 dge+KT13+8BQ,+United+Kingdom&aq=0&sll=37.0625,-95.677068&sspn=27.28496
 1,86.572266&ie=UTF8&hq=&hnear=Weybridge+KT13+8BQ,+United+Kingdom&z=15
CONTACT:01932 339039 or 07813 718541
ORGANIZER:Karen Sutton (Group leader Samantha New-Fielding)
ATTACH;FMTTYPE="image/jpeg":http://storage.ning.com/topology/rest/1.0/
 file/get/2591391411?profile=original
ATTENDEE;ROLE=REQ-PARTICIPANT;PARTSTAT=ACCEPTED;RSVP=TRUE;CN="Karen Su
 tton":https://networkinginsurrey.co.uk/profile/KarenSutton
END:VEVENT
END:VCALENDAR
