BEGIN:VCALENDAR
PRODID:NingEventWidget-v1
VERSION:2.0
METHOD:PUBLISH
BEGIN:VTIMEZONE
TZID:Europe/London
X-LIC-LOCATION:Europe/London
BEGIN:DAYLIGHT
TZOFFSETFROM:+0000
TZOFFSETTO:+0100
TZNAME:BST
DTSTART:19700329T010000
RRULE:FREQ=YEARLY;BYMONTH=3;BYDAY=-1SU
END:DAYLIGHT
BEGIN:STANDARD
TZOFFSETFROM:+0100
TZOFFSETTO:+0000
TZNAME:GMT
DTSTART:19701025T020000
RRULE:FREQ=YEARLY;BYMONTH=10;BYDAY=-1SU
END:STANDARD
END:VTIMEZONE
BEGIN:VEVENT
UID:4626108:Event:8327
DTSTAMP:20260423T210044Z
SUMMARY:BNI Visitors Day Breakfast, Kingston
DESCRIPTION:BNI Kingston Royals Visitors Day at The Holiday Inn\nKings
 ton Royals BNI chapter would like to invite you to their Visitor Day.Â
   Come along to find out how BNI can generate more business for you.\n
 We are a proactive networking group in Surrey, which meets every Tuesd
 ay morning before our offices open. Our members are effectively increa
 sing their networks and growing their businesses.\nPlease take advanta
 ge of this Vistors Day to meet our Members, and see for yourself how B
 NI can help you to grow your business!\nCOST: Â£11 meeting fee (includ
 ing breakfast)\nBOOK HERE: Contact Neil ArmstrongÂ or Jake AllenÂ here
  on NiS, or email neil@neilarmstrongfilms.co.ukÂ or jake.allen@kingand
 allen.co.ukMAPÂ (Note: The hotel postcode returns an inaccurate locati
 on on Google Maps - it's actually located down by the river at Prospec
 t Road, as shown on our map link here)\nVENUE\n-----------------------
 ---------------\nBNI provides a structured, supportive, business envir
 onment in which local business people can get together to network, lea
 rn valuable new marketing skills and develop the strong personal relat
 ionships that lead to trust and the consequent generation of significa
 nt business for each other.\nÂ \n\nFor more information visit https://
 networkinginsurrey.co.uk/events/bni-visitors-day-breakfast
DTSTART;TZID=Europe/London:20110222T063000
DTEND;TZID=Europe/London:20110222T084500
CATEGORIES:visitor, bni, breakfast, kingston
LOCATION:The Holiday Inn Hotel, Surbiton KT6 5QQ
WEBSITE:http://www.bnikingstonroyals.com/
URL:http://www.bnikingstonroyals.com/
CONTACT:
ORGANIZER;CN="Jake Allen":https://networkinginsurrey.co.uk/profile/Jak
 eAllen
ATTACH;FMTTYPE="image/jpeg":http://storage.ning.com/topology/rest/1.0/
 file/get/2591389728?profile=original
ATTENDEE;ROLE=REQ-PARTICIPANT;PARTSTAT=ACCEPTED;RSVP=TRUE;CN="Jake All
 en":https://networkinginsurrey.co.uk/profile/JakeAllen
ATTENDEE;ROLE=REQ-PARTICIPANT;PARTSTAT=TENTATIVE;RSVP=TRUE;CN="Bruce B
 urrowes":https://networkinginsurrey.co.uk/profile/BruceBurrowes
END:VEVENT
END:VCALENDAR
