BEGIN:VCALENDAR
PRODID:NingEventWidget-v1
VERSION:2.0
METHOD:PUBLISH
BEGIN:VTIMEZONE
TZID:Europe/London
X-LIC-LOCATION:Europe/London
BEGIN:DAYLIGHT
TZOFFSETFROM:+0000
TZOFFSETTO:+0100
TZNAME:BST
DTSTART:19700329T010000
RRULE:FREQ=YEARLY;BYMONTH=3;BYDAY=-1SU
END:DAYLIGHT
BEGIN:STANDARD
TZOFFSETFROM:+0100
TZOFFSETTO:+0000
TZNAME:GMT
DTSTART:19701025T020000
RRULE:FREQ=YEARLY;BYMONTH=10;BYDAY=-1SU
END:STANDARD
END:VTIMEZONE
BEGIN:VEVENT
UID:4626108:Event:9324
DTSTAMP:20260422T155835Z
SUMMARY:BNI 'Visitors Day' Breakfast, Cobham
DESCRIPTION:Cobham & Esher BNI Breakfast at the NY Bar & Grill \n\nEv
 ery Thursday at 7am a group of business people meets at the NY Bar & G
 rill in Cobham to exchange business leads and benefit from working wit
 h fellow forward-looking entrepreneurs.\nA BNI Visitors Day is your op
 portuniy to attend a BNI chapter meeting and find out how it all works
 . You will meet the Members and lots of your fellow guests, so please 
 bring plenty of business cards!\nCOST: £10 meeting fee (includes full
  English or continental breakfast)\nTO BOOK YOUR PLACE Please contact 
 Andrew Wills by email -andrewwills@aw-law.co.uk  - or telephone 01372
  469100\nMAP\n----------------------------------------\nBNI is the mos
 t successful and largest business referral organisation in the world. 
 If you operate a business in the Esher or Cobham area, you are very we
 lcome to join us for breakfast to see the benefits for yourself.\nHowe
 ver, we only allow one member per profession or business to join, so d
 on't delay!\nOur philosophy is \"Givers Gain\" and to succeed in BNI m
 embers must embrace that philosophy by helping to find referrals for t
 he other members of their chapter.\n\nFor more information visit https
 ://networkinginsurrey.co.uk/events/bni-visitors-day-breakfast-1
DTSTART;TZID=Europe/London:20110317T063000
DTEND;TZID=Europe/London:20110317T083000
CATEGORIES:bni, esher, cobham, breakfast
LOCATION:NY Bar & Grill, Cobham KT11 1HY
WEBSITE:http://www.bni-esher-cobham.co.uk/
URL:http://www.bni-esher-cobham.co.uk/
CONTACT:01372 469100
ORGANIZER:Andrew Wills
ATTACH;FMTTYPE="image/jpeg":http://storage.ning.com/topology/rest/1.0/
 file/get/2591389511?profile=original
ATTENDEE;ROLE=REQ-PARTICIPANT;PARTSTAT=ACCEPTED;RSVP=TRUE;CN="Keith Gr
 over, NiS Founder":https://networkinginsurrey.co.uk/profile/KeithGrove
 r
END:VEVENT
END:VCALENDAR
