BEGIN:VCALENDAR
PRODID:NingEventWidget-v1
VERSION:2.0
METHOD:PUBLISH
BEGIN:VTIMEZONE
TZID:Europe/London
X-LIC-LOCATION:Europe/London
BEGIN:DAYLIGHT
TZOFFSETFROM:+0000
TZOFFSETTO:+0100
TZNAME:BST
DTSTART:19700329T010000
RRULE:FREQ=YEARLY;BYMONTH=3;BYDAY=-1SU
END:DAYLIGHT
BEGIN:STANDARD
TZOFFSETFROM:+0100
TZOFFSETTO:+0000
TZNAME:GMT
DTSTART:19701025T020000
RRULE:FREQ=YEARLY;BYMONTH=10;BYDAY=-1SU
END:STANDARD
END:VTIMEZONE
BEGIN:VEVENT
UID:4626108:Event:544249
DTSTAMP:20260421T082223Z
SUMMARY:BNI Pyrford Pioneers - Visitor Event
DESCRIPTION:New BNI Afternoon Networking at Pyrford Lakes Golf Club\r\
 n\r\nVisitors Event - BNI - but not as you know it!!\r\n\r\nJoin us fo
 r a fun and productive networking session at Pyrford Lakes Golf Club f
 or BNI Surrey’s only afternoon Business referral meeting.\r\nThis ne
 w growing group meet at 4.45PM on a Wednesday afternoon.\r\nCome along
  for a visit and make new connections with businesses local to Woking 
 and the close surrounding areas.\r\nEnjoy Tea/coffee, biscuits and lot
 s of great conversations.\r\nBring your business cards and friends alo
 ng too - we are looking forward to meeting you!\r\nCOST: £15 (Include
 s Tea, Coffee, Water and Biscuits)  - pay on the door but please regi
 ster in advance to attend \r\nBOOKING: Please CLICK HERE to register 
 to join us as a Visitor\r\nMAP\r\nThere is ample free parking at the C
 lub\r\n\n\nFor more information visit https://networkinginsurrey.co.uk
 /events/bni-pyrford-pioneers-visitor-event
DTSTART;TZID=Europe/London:20241127T164500
DTEND;TZID=Europe/London:20241127T183000
CATEGORIES:visitor, event, -, business, networking
LOCATION:Pyrford Lakes, GU22 8XR
WEBSITE:https://maps.app.goo.gl/uBL6i7gzz61GizxB8
URL:https://maps.app.goo.gl/uBL6i7gzz61GizxB8
CONTACT:07810503558
ORGANIZER;CN="Tara Jayne Maynard":https://networkinginsurrey.co.uk/pro
 file/TaraJayneMaynard
ATTACH;FMTTYPE="image/jpeg":https://storage.ning.com/topology/rest/1.0
 /file/get/12872080889?profile=original
ATTENDEE;ROLE=REQ-PARTICIPANT;PARTSTAT=ACCEPTED;RSVP=TRUE;CN="Tara Jay
 ne Maynard":https://networkinginsurrey.co.uk/profile/TaraJayneMaynard
END:VEVENT
END:VCALENDAR
