BEGIN:VCALENDAR
PRODID:NingEventWidget-v1
VERSION:2.0
METHOD:PUBLISH
BEGIN:VTIMEZONE
TZID:Europe/London
X-LIC-LOCATION:Europe/London
BEGIN:DAYLIGHT
TZOFFSETFROM:+0000
TZOFFSETTO:+0100
TZNAME:BST
DTSTART:19700329T010000
RRULE:FREQ=YEARLY;BYMONTH=3;BYDAY=-1SU
END:DAYLIGHT
BEGIN:STANDARD
TZOFFSETFROM:+0100
TZOFFSETTO:+0000
TZNAME:GMT
DTSTART:19701025T020000
RRULE:FREQ=YEARLY;BYMONTH=10;BYDAY=-1SU
END:STANDARD
END:VTIMEZONE
BEGIN:VEVENT
UID:4626108:Event:1737
DTSTAMP:20260425T162127Z
SUMMARY:BNI Breakfast, Esher
DESCRIPTION:\nThe recently launched Esher BNI group meets at The Bear 
 pub, in the centre of Esher. If you'd like to come along to sample net
 working over breakfast with the global organisation that invented the 
 concept, please contact NiS Member James McBrearty by sending a messag
 e on this site or calling James at Tax Help UK on 0845 680 1423\nCOST:
  £10 including breakfast\nMAP\n--------------------------------------
 \nBNI provides a structured, supportive, business environment in which
  local business people can get together to network, learn valuable new
  marketing skills and develop the strong personal relationships that l
 ead to trust and the consequent generation of significant business for
  each other.\n\nFor more information visit https://networkinginsurrey.
 co.uk/events/bni-breakfast-esher-2
DTSTART;TZID=Europe/London:20100422T063000
DTEND;TZID=Europe/London:20100422T073000
CATEGORIES:breakfast, esher, bni
LOCATION:The Bear, Esher KT10 9RQ
WEBSITE:http://www.bnibreakfast.co.uk/viewchapter.php?chapter=1398
URL:http://www.bnibreakfast.co.uk/viewchapter.php?chapter=1398
CONTACT:07979 961 519
ORGANIZER:Andrew Petri, Estrada
ATTACH;FMTTYPE="image/jpeg":http://storage.ning.com/topology/rest/1.0/
 file/get/2591377575?profile=original
ATTENDEE;ROLE=REQ-PARTICIPANT;PARTSTAT=ACCEPTED;RSVP=TRUE;CN="Caroline
  Walsh":https://networkinginsurrey.co.uk/profile/CarolineWalsh
END:VEVENT
END:VCALENDAR
