BEGIN:VCALENDAR
PRODID:NingEventWidget-v1
VERSION:2.0
METHOD:PUBLISH
BEGIN:VTIMEZONE
TZID:Europe/London
X-LIC-LOCATION:Europe/London
BEGIN:DAYLIGHT
TZOFFSETFROM:+0000
TZOFFSETTO:+0100
TZNAME:BST
DTSTART:19700329T010000
RRULE:FREQ=YEARLY;BYMONTH=3;BYDAY=-1SU
END:DAYLIGHT
BEGIN:STANDARD
TZOFFSETFROM:+0100
TZOFFSETTO:+0000
TZNAME:GMT
DTSTART:19701025T020000
RRULE:FREQ=YEARLY;BYMONTH=10;BYDAY=-1SU
END:STANDARD
END:VTIMEZONE
BEGIN:VEVENT
UID:4626108:Event:171902
DTSTAMP:20260422T164158Z
SUMMARY:The Athena Network Lunch, Farnham (East)
DESCRIPTION:Athena Lunch at the Princess Royal\r\n\r\nThe Athena Netwo
 rk is thriving in the Blackwater Valley region, with four thriving and
  proactive groups. Farnham (East), Farnham (West), Fleet and Camberley
 .Â \r\nAthena Farnham (East)Â provides the opportunity for visitors to
  find out about The Athena Network, our ethos, our values and our aims
 . There will be plenty of networking on the day, enabling visitors to 
 meet other like minded local business women, followed by a great lunch
  and inspirational speakers.\r\nOur Business Development Training this
  month will be announced at a later date. \r\nAthena Meetings\r\nAthen
 a meetings are structured, interactive, informative and professional w
 hilst being fun and relaxed, providing the perfect combination for str
 ong business partnerships as well as friendship. We aim to create a vi
 brant, thriving and dynamic community of women entrepreneurs and execu
 tives who not only collaborate and connect with like-minded women, the
 y learn and grow in the process.\r\nAthena Farnham (East)Â meetings ar
 e held every 3rdÂ TuesdayÂ of the month (excl August & December)\r\nCO
 ST: Â£28Â (including light lunch and refreshments)\r\nBOOKING: PleaseÂ
  CLICK HEREÂ to book via Eventbrite for debit/credit card payments or 
 call Charlotte on 07882993581 or email Charlotte.emery@theathenanetwor
 k.com for BACS paymentsÂ \r\nMAP\r\n----------------------------------
 ------------------------------\r\nFind more Athena meetings here on Ne
 tworking in Surrey...\n\nFor more information visit https://networking
 insurrey.co.uk/events/blackwater-valley-athena-farnham-east-group
DTSTART;TZID=Europe/London:20190716T120000
DTEND;TZID=Europe/London:20190716T140000
CATEGORIES:networking, lunch, athena
LOCATION:The Princess Royal GU10 1NX
WEBSITE:
URL:
CONTACT:
ORGANIZER;CN="Charlotte Emery":https://networkinginsurrey.co.uk/profil
 e/CharlotteEmery
ATTACH;FMTTYPE="image/jpeg":https://storage.ning.com/topology/rest/1.0
 /file/get/3188453091?profile=original
ATTENDEE;ROLE=REQ-PARTICIPANT;PARTSTAT=ACCEPTED;RSVP=TRUE;CN="Charlott
 e Emery":https://networkinginsurrey.co.uk/profile/CharlotteEmery
END:VEVENT
END:VCALENDAR
