BEGIN:VCALENDAR
PRODID:NingEventWidget-v1
VERSION:2.0
METHOD:PUBLISH
BEGIN:VTIMEZONE
TZID:Europe/London
X-LIC-LOCATION:Europe/London
BEGIN:DAYLIGHT
TZOFFSETFROM:+0000
TZOFFSETTO:+0100
TZNAME:BST
DTSTART:19700329T010000
RRULE:FREQ=YEARLY;BYMONTH=3;BYDAY=-1SU
END:DAYLIGHT
BEGIN:STANDARD
TZOFFSETFROM:+0100
TZOFFSETTO:+0000
TZNAME:GMT
DTSTART:19701025T020000
RRULE:FREQ=YEARLY;BYMONTH=10;BYDAY=-1SU
END:STANDARD
END:VTIMEZONE
BEGIN:VEVENT
UID:4626108:Event:35009
DTSTAMP:20260421T204519Z
SUMMARY:MEMBER PROMO: 2-Day Bids & Tenders Skills Course , Woking
DESCRIPTION:Learn Bids & Tenders Foundation Skills at HG Wells Centre\
 n\nDo you struggle with tenders, or want to win more business?\nThe B
 id Perfect Foundation Bid Skills Course has proved of immense value no
  matter what type of bidding you are involved in. Whether you are bidd
 ing for public sector contracts, private sector supply contracts, fund
 s or any other bid project, you leave our course with a completely fre
 sh point of view.\nThe two days you spend with us will empower you to 
 write powerful, compelling and winning bids. We have testimonials from
  past delegates who have used our techniques and won the next bid they
  wrote. Two days with Bid Perfect may well be the best investment you 
 make this year.\nClick here to DOWNLOAD  a PDF for more information,
  and visit www.bidperfect.co.uk  \nCOST: £495.00 + vat per delegate
  (this price is automatically discounted by 30% for a booking made mor
 e than two weeks before the course).\nTO BOOK:  Please contact Neal 
 Basson on 07887 531091, or email  neal@bidperfect.co.uk  \nMAP\n 
 \n\"The word 'training' doesn't do it justice! It's a blueprint for su
 ccess. You leave the room feeling you can take on the World... and win
 !\"\nMelanie Smart – Managing Director, Adurasys\n\nFor more informa
 tion visit https://networkinginsurrey.co.uk/events/bids-tenders-founda
 tion-skills-course
DTSTART;TZID=Europe/London:20111124T090000
DTEND;TZID=Europe/London:20111125T163000
CATEGORIES:training, course
LOCATION:HG Wells Conference Centre
WEBSITE:http://www.bidperfect.co.uk
URL:http://www.bidperfect.co.uk
CONTACT:07887 531091
ORGANIZER;CN="Neal Basson":https://networkinginsurrey.co.uk/profile/Ne
 alBasson
ATTACH;FMTTYPE="image/jpeg":http://storage.ning.com/topology/rest/1.0/
 file/get/2591396530?profile=original
ATTENDEE;ROLE=REQ-PARTICIPANT;PARTSTAT=ACCEPTED;RSVP=TRUE;CN="Neal Bas
 son":https://networkinginsurrey.co.uk/profile/NealBasson
END:VEVENT
END:VCALENDAR
