BEGIN:VCALENDAR
PRODID:NingEventWidget-v1
VERSION:2.0
METHOD:PUBLISH
BEGIN:VTIMEZONE
TZID:Europe/London
X-LIC-LOCATION:Europe/London
BEGIN:DAYLIGHT
TZOFFSETFROM:+0000
TZOFFSETTO:+0100
TZNAME:BST
DTSTART:19700329T010000
RRULE:FREQ=YEARLY;BYMONTH=3;BYDAY=-1SU
END:DAYLIGHT
BEGIN:STANDARD
TZOFFSETFROM:+0100
TZOFFSETTO:+0000
TZNAME:GMT
DTSTART:19701025T020000
RRULE:FREQ=YEARLY;BYMONTH=10;BYDAY=-1SU
END:STANDARD
END:VTIMEZONE
BEGIN:VEVENT
UID:4626108:Event:31518
DTSTAMP:20260420T235107Z
SUMMARY:Best of Ripley Connections Visitors Lunch
DESCRIPTION:Best ofÂ Ripley ConnectionsÂ Visitors Day Lunch at Sutton 
 Green Golf Club\nÂ \nCome and join us for another fantastic opportunit
 y to network locally at Sutton Green Golf Club for some lunchtime netw
 orking.Â \nRipley Connections meets on a monthly basis and the Visitor
 s' Days are a great chance for people to experience the group and unde
 rstand the importance of network in a supportive environment.\nCOST: Â
 £20 meeting fee including lunch\nTO BOOK: Please call Sally Castro onÂ
  01483 280039 or email sally.castro@thebestof.co.uk\nMAPÂ Â  There is 
 plenty of parking available.\n----------------------------------------
 ---------------\nRIPLEY CONNECTIONS isÂ a group of diverse businesses 
 ranging from Therapists to Financial Advisors, who whilst seemingly ha
 ve nothing in common can demonstrate how we can help each other grow.\
 nThe emphasis is on informed discussion, sharing ideas and the opportu
 nity for business networking. Each event will be unique to whoever att
 ends on the day and there will be an opportunity for each member to in
 troduce themselves and their business with a 10 - 15 minute presentati
 on.\nRegular lunchtime meetings are held on the second Wednesday of ev
 ery month between 12.15pm - 2.15pm.\nIn order to maximise the benefits
  to our members, the membership is limited to one profession in the gr
 oup and is on a first come, first served basis, so do not delay sign u
 p today!\n(Membership costs Â£60 per year, and there is a meeitng fee 
 of Â£20 to include lunch)\n\nFor more information visit https://networ
 kinginsurrey.co.uk/events/best-of-ripley-connections-visitors-day
DTSTART;TZID=Europe/London:20111109T120000
DTEND;TZID=Europe/London:20111109T141500
CATEGORIES:networking, visitors, day
LOCATION:Sutton Green Golf Club GU4 7QF
WEBSITE:http://www.suttongreengc.co.uk
URL:http://www.suttongreengc.co.uk
CONTACT:01483 280039 Sally Castro
ORGANIZER;CN="Paul A Bridgland":https://networkinginsurrey.co.uk/profi
 le/PaulABridgland
ATTACH;FMTTYPE="image/jpeg":http://storage.ning.com/topology/rest/1.0/
 file/get/2591393678?profile=original
ATTENDEE;ROLE=REQ-PARTICIPANT;PARTSTAT=ACCEPTED;RSVP=TRUE;CN="Paul A B
 ridgland":https://networkinginsurrey.co.uk/profile/PaulABridgland
END:VEVENT
END:VCALENDAR
