BEGIN:VCALENDAR
PRODID:NingEventWidget-v1
VERSION:2.0
METHOD:PUBLISH
BEGIN:VTIMEZONE
TZID:Europe/London
X-LIC-LOCATION:Europe/London
BEGIN:DAYLIGHT
TZOFFSETFROM:+0000
TZOFFSETTO:+0100
TZNAME:BST
DTSTART:19700329T010000
RRULE:FREQ=YEARLY;BYMONTH=3;BYDAY=-1SU
END:DAYLIGHT
BEGIN:STANDARD
TZOFFSETFROM:+0100
TZOFFSETTO:+0000
TZNAME:GMT
DTSTART:19701025T020000
RRULE:FREQ=YEARLY;BYMONTH=10;BYDAY=-1SU
END:STANDARD
END:VTIMEZONE
BEGIN:VEVENT
UID:4626108:Event:21511
DTSTAMP:20260424T161149Z
SUMMARY:Best of Ripley Connections Lunch, Ripley
DESCRIPTION:\n\n\n\nthebestofripleyconnections is a business networkin
 g group that has been established to promote and support local busines
 ses in the Ripley, Send, Guildford and surrounding area, to contribute
  to a thriving and prosperous local economy.We are a group of diverse 
 businesses ranging from Therapists to Financial Advisors, who whilst s
 eemingly have nothing in common can demonstrate how we can help each o
 ther grow.\nThe emphasis is on informed discussion, sharing ideas and 
 the opportunity for business networking. Each event will be unique to 
 whoever attends on the day and there will be an opportunity for each m
 ember to introduce themselves and their business with a 10 - 15 minute
  presentation.\nRegular lunchtime meetings are held on the second Wedn
 esday of every month between 12.15pm - 2.15pm.\n\nIn order to maximise
  the benefits to our members, the membership is limited to one profess
 ion in the group and is on a first come, first served basis, so do not
  delay sign up today!\nCOST: Membership costs £60 per year, and there
  is a meeitng fee of £20 to include lunch\n\n\n\n\n\n\n\n\n\n \n\n\n
 \n\n\n\n\nwww.ripleyconnections.co.uk\n\n\n\n\n\n\nRipley Connections 
 is proud to be featured on the bestofguildford, the award winning site
  featuring the very best businesses in Guildford, Godalming and Cranle
 igh.\n\nFor more information visit https://networkinginsurrey.co.uk/ev
 ents/best-of-ripley-connections-1
DTSTART;TZID=Europe/London:20110615T121500
DTEND;TZID=Europe/London:20110615T141500
CATEGORIES:ripley, lunch
LOCATION:TheTalbot Inn
WEBSITE:http://www.thetalbotinn.com/
URL:http://www.thetalbotinn.com/
CONTACT:01483 280039
ORGANIZER:Sally Castro
ATTACH;FMTTYPE="image/jpeg":http://storage.ning.com/topology/rest/1.0/
 file/get/2591393678?profile=original
ATTENDEE;ROLE=REQ-PARTICIPANT;PARTSTAT=ACCEPTED;RSVP=TRUE;CN="Paul A B
 ridgland":https://networkinginsurrey.co.uk/profile/PaulABridgland
END:VEVENT
END:VCALENDAR
