BEGIN:VCALENDAR
PRODID:NingEventWidget-v1
VERSION:2.0
METHOD:PUBLISH
BEGIN:VTIMEZONE
TZID:Europe/London
X-LIC-LOCATION:Europe/London
BEGIN:DAYLIGHT
TZOFFSETFROM:+0000
TZOFFSETTO:+0100
TZNAME:BST
DTSTART:19700329T010000
RRULE:FREQ=YEARLY;BYMONTH=3;BYDAY=-1SU
END:DAYLIGHT
BEGIN:STANDARD
TZOFFSETFROM:+0100
TZOFFSETTO:+0000
TZNAME:GMT
DTSTART:19701025T020000
RRULE:FREQ=YEARLY;BYMONTH=10;BYDAY=-1SU
END:STANDARD
END:VTIMEZONE
BEGIN:VEVENT
UID:4626108:Event:7452
DTSTAMP:20260423T034055Z
SUMMARY:Best of Richmond Evening, Twickenham
DESCRIPTION:Network with the Best of Richmond at Twickenham Stadium\n\
 nIf you want to connect with others in business locally in a relaxed, 
 friendly and supportive environment, then this event is for you!\nTher
 e's no pressure or formal structure to our events. It's simply an oppo
 rtunity to mingle with a wealth of local business contacts in a social
  atmosphere.\nThese events are useful for finding potential new custom
 ers or suppliers - but they're also an opportunity to meet and share e
 xperiences with like-minded business owners.\nAttendance includes a li
 ght finger buffet and a cash bar will be open throughout the evening. 
 You will leave with new contacts for your network and fresh enthusiasm
  for your business!\nOptional FREE seminar:Prior to the event, we will
  be hosting a seminar for exhibitors or those considering exhibiting a
 t the Richmond Business Expo at Twickeham Stadium. This will be a grea
 t opportunity to get some top tips on how to make exhibitions work for
  your business. The seminar starts at 6pm, followed by the networking 
 event at 7pm.\nCOST:  Business Members of thebestof  - £10+vat Non-
 members - £20+vat\n\nBOOK ONLINE HERE\n\nAll tickets must be booked a
 nd paid for in advance. If you are unable to attend, please notify us
  by email at least 24 hours prior to the event and we will either refu
 nd or credit you for another event.\n \nMAP & DIRECTIONS\n-----------
 -------------\nthebestofrichmond helps to promote great businesses in 
 Richmond upon Thames through our high-profile website, direct marketin
 g publications and dynamic business networking.\n\nFor more informatio
 n visit https://networkinginsurrey.co.uk/events/best-of-richmond-eveni
 ng
DTSTART;TZID=Europe/London:20110310T190000
DTEND;TZID=Europe/London:20110310T210000
CATEGORIES:networking, event
LOCATION:Elgar Suite, Twickenham Stadium TW1 1DZ
WEBSITE:http://www.richmondbusinessservices.co.uk/28.html
URL:http://www.richmondbusinessservices.co.uk/28.html
CONTACT:
ORGANIZER;CN="Nick Taimitarha":https://networkinginsurrey.co.uk/profil
 e/NickTaimitarha
ATTACH;FMTTYPE="image/jpeg":http://storage.ning.com/topology/rest/1.0/
 file/get/2591389499?profile=original
ATTENDEE;ROLE=REQ-PARTICIPANT;PARTSTAT=ACCEPTED;RSVP=TRUE;CN="Nick Tai
 mitarha":https://networkinginsurrey.co.uk/profile/NickTaimitarha
END:VEVENT
END:VCALENDAR
