BEGIN:VCALENDAR
PRODID:NingEventWidget-v1
VERSION:2.0
METHOD:PUBLISH
BEGIN:VTIMEZONE
TZID:Europe/London
X-LIC-LOCATION:Europe/London
BEGIN:DAYLIGHT
TZOFFSETFROM:+0000
TZOFFSETTO:+0100
TZNAME:BST
DTSTART:19700329T010000
RRULE:FREQ=YEARLY;BYMONTH=3;BYDAY=-1SU
END:DAYLIGHT
BEGIN:STANDARD
TZOFFSETFROM:+0100
TZOFFSETTO:+0000
TZNAME:GMT
DTSTART:19701025T020000
RRULE:FREQ=YEARLY;BYMONTH=10;BYDAY=-1SU
END:STANDARD
END:VTIMEZONE
BEGIN:VEVENT
UID:4626108:Event:14618
DTSTAMP:20260422T201747Z
SUMMARY:Best of Richmond Evening Riverboat Cruise , Richmond
DESCRIPTION: \nIt's cruise time again!  \nWhat nicer way to network
  on a summers evening than to be cruising along one of the most scenic
  parts of the River Thames - courtesy of Turk Launches? It really is a
  special kind of evening.Relax and mingle with like minded business ow
 ners as you enjoy the tradition of passing through Teddington Lock, ta
 king in Richmond and Kingstons' bustling riversides and stunning views
  of Hampton Court Palace. There's a free drink on arrival and a delic
 ious buffet. Not only will you meet some great contacts - it's excelle
 nt fun too! After the cruise, we all continue to mingle at the White C
 ross pub.COST: Business member of thebestof £10, Non-members £20 (in
 cludes free drink & buffet)\nCLICK HERE TO BOOK\n﻿\nTickets are limi
 ted so early booking is strongly advised.\nPS: If you haven't been on 
 a Turk's river cruise yet - then this is a golden opportunity. The New
  Southern Belle brings a flavour of old New Orleans to the River Thame
 s - it really is rather special\nMAP\n \n\nFor more information visit
  https://networkinginsurrey.co.uk/events/best-of-richmond-evening-1
DTSTART;TZID=Europe/London:20110512T183000
DTEND;TZID=Europe/London:20110512T210000
CATEGORIES:networking
LOCATION:Richmond Riverside
WEBSITE:http://www.eventelephant.com/aneveningwiththebestofrichmondont
 herivermay2011
URL:http://www.eventelephant.com/aneveningwiththebestofrichmondontheri
 vermay2011
CONTACT:020 3002 4100
ORGANIZER;CN="Nick Taimitarha":https://networkinginsurrey.co.uk/profil
 e/NickTaimitarha
ATTACH;FMTTYPE="image/jpeg":http://storage.ning.com/topology/rest/1.0/
 file/get/2591391968?profile=original
ATTENDEE;ROLE=REQ-PARTICIPANT;PARTSTAT=ACCEPTED;RSVP=TRUE;CN="Uzma Zai
 di":https://networkinginsurrey.co.uk/profile/UzmaAfzal
ATTENDEE;ROLE=REQ-PARTICIPANT;PARTSTAT=ACCEPTED;RSVP=TRUE;CN="Nick Tai
 mitarha":https://networkinginsurrey.co.uk/profile/NickTaimitarha
END:VEVENT
END:VCALENDAR
