BEGIN:VCALENDAR
PRODID:NingEventWidget-v1
VERSION:2.0
METHOD:PUBLISH
BEGIN:VTIMEZONE
TZID:Europe/London
X-LIC-LOCATION:Europe/London
BEGIN:DAYLIGHT
TZOFFSETFROM:+0000
TZOFFSETTO:+0100
TZNAME:BST
DTSTART:19700329T010000
RRULE:FREQ=YEARLY;BYMONTH=3;BYDAY=-1SU
END:DAYLIGHT
BEGIN:STANDARD
TZOFFSETFROM:+0100
TZOFFSETTO:+0000
TZNAME:GMT
DTSTART:19701025T020000
RRULE:FREQ=YEARLY;BYMONTH=10;BYDAY=-1SU
END:STANDARD
END:VTIMEZONE
BEGIN:VEVENT
UID:4626108:Event:10502
DTSTAMP:20260422T232500Z
SUMMARY:Best of Guildford Networking Lunch, Guildford
DESCRIPTION:Best of Guildford Networking at Esporta\n\nWould you like 
 to meet new customers?\nCome and join us on Friday 15th April atÂ Espo
 rta Health ClubÂ - our second networking event of the year starts at 1
 2.30, there will be food, drinks and most importantly the perfect atmo
 sphere to do some networking. If you attended our last event, you'll k
 now that our events are packed to capacity with local business people 
 looking for new contacts - it's a great place to meet new people!\nWe 
 are delighted to welcomeÂ Esporta Health ClubÂ as a Â new featured bus
 iness on the best of guildford and welcome their generous sponsorship 
 of this event. Esporta offers superb facilities in the heart of Guildf
 ord,There will be some exclusive deals on the Day to enable you to try
  Esporta for yourself so don't miss out!\nEsportaÂ isÂ  situated on Qu
 een Elizabeth Park which is just two miles outside the town centre - t
 here is ample FREE parking ourside.Â \nNumbers are once again limited 
 and last time we were oversubscribed ...so please book early ..... you
  never know, your new customer could be booked already!Â \nAs usual th
 ere is an 'Earlybird Special' price, to encourage early bookings so do
 n't delay and save yourself some money.\nÂ Â Â Â Â Â Â Â Â Â Â Â Â Â Â
  Â Â Â Â Â Â Â Â Â See you there !!\nCOST: Â£15 +Â vatEarly Bird Speci
 al : Â£12.50 + vat (For Booking before 31st March)\nBest of Guildford 
 Members : Â£10.00 +Â vat\nCLICK HERE TO BOOK\nMAP\n\nFor more informat
 ion visit https://networkinginsurrey.co.uk/events/best-of-guildford-ne
 tworking
DTSTART;TZID=Europe/London:20110415T123000
DTEND;TZID=Europe/London:20110415T143000
CATEGORIES:best_of_guildford, networking
LOCATION:Esporta Health Club, Guildford  GU2 9LX
WEBSITE:http://www.thebestof.co.uk/local/guildford/business-guide/feat
 ure/esporta-guildford-health-club/84562
URL:http://www.thebestof.co.uk/local/guildford/business-guide/feature/
 esporta-guildford-health-club/84562
CONTACT:01482 280039
ORGANIZER;CN="Paul A Bridgland":https://networkinginsurrey.co.uk/profi
 le/PaulABridgland
ATTACH;FMTTYPE="image/jpeg":http://storage.ning.com/topology/rest/1.0/
 file/get/2591390821?profile=original
ATTENDEE;ROLE=REQ-PARTICIPANT;PARTSTAT=ACCEPTED;RSVP=TRUE;CN="Paul A B
 ridgland":https://networkinginsurrey.co.uk/profile/PaulABridgland
ATTENDEE;ROLE=REQ-PARTICIPANT;PARTSTAT=ACCEPTED;RSVP=TRUE;CN="Jane Har
 dy":https://networkinginsurrey.co.uk/profile/JaneHardy
END:VEVENT
END:VCALENDAR
