BEGIN:VCALENDAR
PRODID:NingEventWidget-v1
VERSION:2.0
METHOD:PUBLISH
BEGIN:VTIMEZONE
TZID:Europe/London
X-LIC-LOCATION:Europe/London
BEGIN:DAYLIGHT
TZOFFSETFROM:+0000
TZOFFSETTO:+0100
TZNAME:BST
DTSTART:19700329T010000
RRULE:FREQ=YEARLY;BYMONTH=3;BYDAY=-1SU
END:DAYLIGHT
BEGIN:STANDARD
TZOFFSETFROM:+0100
TZOFFSETTO:+0000
TZNAME:GMT
DTSTART:19701025T020000
RRULE:FREQ=YEARLY;BYMONTH=10;BYDAY=-1SU
END:STANDARD
END:VTIMEZONE
BEGIN:VEVENT
UID:4626108:Event:7473
DTSTAMP:20260424T075024Z
SUMMARY:Best of Guildford Lunch, Guildford
DESCRIPTION:Meet new customers with thebestof at MWB Exchange, Guildfo
 rd\nCome and join us on Friday 11th February at the MWB Business Excha
 nge Building - our first networking event of the year starts at 12.30,
  there will be food, drinks and most importantly the perfect atmospher
 e to do some networking. If you attended any of our 2010 events, you'l
 l know that our events are packed to capacity with local business peop
 le looking for new contacts.\nWe are delighted to welcome MWB Busines
 s Exchange as a  new featured business on the best of guildford and 
 welcome their generous sponsorship of this event. The facilities we ar
 e using are available at any time for local businesses throughout the 
 year, whether it's for a two hour small meeting or a large seminar - s
 pace can be tailored for pretty much any requirement and a complete ra
 nge of  facilities such as AV are available.MWB Business Exchange als
 o provide serviced offices to small businesses.\nNumbers are once agai
 n limited so please book early ..... you never know, your new customer
  could be booked already!                         Hope t
 o see you there !!\nCOST: thebestof guildford web site Members* £12 i
 nc VAT  Non-Members £15 inc VAT\n* Members, please email us for
  your special promotional code.\nCLICK HERE TO BOOK Earlybird Booking
  in advance only please - light buffet included\nMAP\nMWB Business 
 Exchange is very conveniently situated on the other side of Guildford 
 mainline railway station, there is a car park with plenty of parking u
 nderneath and if you are coming on the train you can literally walk fr
 om the platform, from the centre of town it's a couple of minutes walk
 .\n\nFor more information visit https://networkinginsurrey.co.uk/event
 s/best-of-guildford-lunch
DTSTART;TZID=Europe/London:20110211T123000
DTEND;TZID=Europe/London:20110211T143000
CATEGORIES:lunch, guildford, thebestof
LOCATION:MWB Business Exchange - GU2 4RG
WEBSITE:http://www.eventelephant.com/bestofguildfordnetworkingfeb11201
 1
URL:http://www.eventelephant.com/bestofguildfordnetworkingfeb112011
CONTACT:01483 280039
ORGANIZER;CN="Paul A Bridgland":https://networkinginsurrey.co.uk/profi
 le/PaulABridgland
ATTACH;FMTTYPE="image/jpeg":http://storage.ning.com/topology/rest/1.0/
 file/get/2591397137?profile=original
ATTENDEE;ROLE=REQ-PARTICIPANT;PARTSTAT=ACCEPTED;RSVP=TRUE;CN="Ian Gray
 ":https://networkinginsurrey.co.uk/profile/IanGray
ATTENDEE;ROLE=REQ-PARTICIPANT;PARTSTAT=ACCEPTED;RSVP=TRUE;CN="Paul A B
 ridgland":https://networkinginsurrey.co.uk/profile/PaulABridgland
END:VEVENT
END:VCALENDAR
